BEGIN:VCALENDAR
VERSION:2.0
PRODID:-//Sabre//Sabre VObject 4.5.8//EN
CALSCALE:GREGORIAN
BEGIN:VEVENT
UID:sabre-vobject-837efc43-a9e8-41ec-adfc-aefa43511a29
DTSTAMP:20260419T132834Z
SUMMARY:Baby Storytime 
DESCRIPTION:This event is a fun storytime for ages birth to 18 months.\n
X-ALT-DESC:FMTTYPE=text/html:<!DOCTYPE HTML PUBLIC "-//W3C//DTD HTML 3.2//E
 N"><HTML><p>This event is a fun storytime for ages birth to 18 months.</p>
 \n</HTML>
CREATED;TZID=Europe/Berlin:20250903T075449
URL;VALUE=URI:https://kaiserslautern.armymwr.com/view-event
DTSTART;TZID=Europe/Berlin:20250904T110000
DTEND;TZID=Europe/Berlin:20250904T130000
SEQUENCE:0
END:VEVENT
END:VCALENDAR
