BEGIN:VCALENDAR
VERSION:2.0
PRODID:-//Sabre//Sabre VObject 4.5.8//EN
CALSCALE:GREGORIAN
BEGIN:VEVENT
UID:sabre-vobject-c5cbb9fd-bae8-43f5-b94c-f0696624e387
DTSTAMP:20260419T234911Z
SUMMARY:Toddler Storytime 
DESCRIPTION:A fun and interactive storytime&nbsp\;for ages 18 to 36 months.
 &nbsp\;\n
X-ALT-DESC:FMTTYPE=text/html:<!DOCTYPE HTML PUBLIC "-//W3C//DTD HTML 3.2//E
 N"><HTML><p>A fun and interactive storytime&nbsp\;for ages 18 to 36 months
 .&nbsp\;</p>\n</HTML>
CREATED;TZID=Europe/Berlin:20250903T075218
URL;VALUE=URI:https://kaiserslautern.armymwr.com/view-event
DTSTART;TZID=Europe/Berlin:20250902T100000
DTEND;TZID=Europe/Berlin:20250902T110000
SEQUENCE:0
END:VEVENT
END:VCALENDAR
