BEGIN:VCALENDAR
VERSION:2.0
PRODID:-//Sabre//Sabre VObject 4.5.8//EN
CALSCALE:GREGORIAN
BEGIN:VEVENT
UID:sabre-vobject-02415660-5798-4b00-8460-5d3983c9756c
DTSTAMP:20260420T000519Z
SUMMARY:Lapsit Storytime
DESCRIPTION:Event takes place at the Landstuhl library. Registration is req
 uired.\n
X-ALT-DESC:FMTTYPE=text/html:<!DOCTYPE HTML PUBLIC "-//W3C//DTD HTML 3.2//E
 N"><HTML><p>Event takes place at the Landstuhl library. Registration is re
 quired.</p>\n</HTML>
CREATED;TZID=Europe/Berlin:20251030T094622
URL;VALUE=URI:https://kaiserslautern.armymwr.com/view-event
DTSTART;TZID=Europe/Berlin:20250903T110000
DTEND;TZID=Europe/Berlin:20250903T120000
SEQUENCE:0
END:VEVENT
END:VCALENDAR
