BEGIN:VCALENDAR
VERSION:2.0
PRODID:-//Sabre//Sabre VObject 4.5.8//EN
CALSCALE:GREGORIAN
BEGIN:VEVENT
UID:sabre-vobject-92b4b99f-13cc-4ae2-a98a-173f34ddaf61
DTSTAMP:20260423T130342Z
SUMMARY:Norway\, The Land of the Midnight Sun | Nærøyfjord and Flåm Rail
 way
DESCRIPTION:Enjoy the spectacular beauty of the mountains and fjords of the
  &ldquo\;Land of the Midnight Sun&rdquo\; when you fly to Norway with Army
  Outdoor Recreation.\n
X-ALT-DESC:FMTTYPE=text/html:<!DOCTYPE HTML PUBLIC "-//W3C//DTD HTML 3.2//E
 N"><HTML><p>Enjoy the spectacular beauty of the mountains and fjords of th
 e &ldquo\;<em>Land of the Midnight Sun</em>&rdquo\; when you <strong>fly t
 o Norway</strong> with <strong>Army Outdoor Recreation</strong>.</p>\n</HT
 ML>
CREATED;TZID=Europe/Berlin:20260330T112614
URL;VALUE=URI:https://kaiserslautern.armymwr.com/view-event
DTSTART;TZID=Europe/Berlin:20260521T000000
DTEND;TZID=Europe/Berlin:20260525T235959
SEQUENCE:0
END:VEVENT
BEGIN:VEVENT
UID:sabre-vobject-21b672ca-77f5-47c2-95ea-daa9ecf1a870
DTSTAMP:20260423T130342Z
SUMMARY:Norway\, The Land of the Midnight Sun | Nærøyfjord and Flåm Rail
 way
DESCRIPTION:Enjoy the spectacular beauty of the mountains and fjords of the
  &ldquo\;Land of the Midnight Sun&rdquo\; when you fly to Norway with Army
  Outdoor Recreation.\n
X-ALT-DESC:FMTTYPE=text/html:<!DOCTYPE HTML PUBLIC "-//W3C//DTD HTML 3.2//E
 N"><HTML><p>Enjoy the spectacular beauty of the mountains and fjords of th
 e &ldquo\;<em>Land of the Midnight Sun</em>&rdquo\; when you <strong>fly t
 o Norway</strong> with <strong>Army Outdoor Recreation</strong>.</p>\n</HT
 ML>
CREATED;TZID=Europe/Berlin:20260330T112614
URL;VALUE=URI:https://kaiserslautern.armymwr.com/view-event
DTSTART;TZID=Europe/Berlin:20260522T000000
DTEND;TZID=Europe/Berlin:20260522T235959
SEQUENCE:1
END:VEVENT
BEGIN:VEVENT
UID:sabre-vobject-bd3d7a76-d610-4608-882e-57d05d046a35
DTSTAMP:20260423T130342Z
SUMMARY:Norway\, The Land of the Midnight Sun | Nærøyfjord and Flåm Rail
 way
DESCRIPTION:Enjoy the spectacular beauty of the mountains and fjords of the
  &ldquo\;Land of the Midnight Sun&rdquo\; when you fly to Norway with Army
  Outdoor Recreation.\n
X-ALT-DESC:FMTTYPE=text/html:<!DOCTYPE HTML PUBLIC "-//W3C//DTD HTML 3.2//E
 N"><HTML><p>Enjoy the spectacular beauty of the mountains and fjords of th
 e &ldquo\;<em>Land of the Midnight Sun</em>&rdquo\; when you <strong>fly t
 o Norway</strong> with <strong>Army Outdoor Recreation</strong>.</p>\n</HT
 ML>
CREATED;TZID=Europe/Berlin:20260330T112614
URL;VALUE=URI:https://kaiserslautern.armymwr.com/view-event
DTSTART;TZID=Europe/Berlin:20260523T000000
DTEND;TZID=Europe/Berlin:20260523T235959
SEQUENCE:2
END:VEVENT
BEGIN:VEVENT
UID:sabre-vobject-8accb383-524d-47d6-97b3-c37acac92ce7
DTSTAMP:20260423T130342Z
SUMMARY:Norway\, The Land of the Midnight Sun | Nærøyfjord and Flåm Rail
 way
DESCRIPTION:Enjoy the spectacular beauty of the mountains and fjords of the
  &ldquo\;Land of the Midnight Sun&rdquo\; when you fly to Norway with Army
  Outdoor Recreation.\n
X-ALT-DESC:FMTTYPE=text/html:<!DOCTYPE HTML PUBLIC "-//W3C//DTD HTML 3.2//E
 N"><HTML><p>Enjoy the spectacular beauty of the mountains and fjords of th
 e &ldquo\;<em>Land of the Midnight Sun</em>&rdquo\; when you <strong>fly t
 o Norway</strong> with <strong>Army Outdoor Recreation</strong>.</p>\n</HT
 ML>
CREATED;TZID=Europe/Berlin:20260330T112614
URL;VALUE=URI:https://kaiserslautern.armymwr.com/view-event
DTSTART;TZID=Europe/Berlin:20260524T000000
DTEND;TZID=Europe/Berlin:20260524T235959
SEQUENCE:3
END:VEVENT
BEGIN:VEVENT
UID:sabre-vobject-d02224cb-45df-4a0a-9c8c-79e5587966d1
DTSTAMP:20260423T130342Z
SUMMARY:Norway\, The Land of the Midnight Sun | Nærøyfjord and Flåm Rail
 way
DESCRIPTION:Enjoy the spectacular beauty of the mountains and fjords of the
  &ldquo\;Land of the Midnight Sun&rdquo\; when you fly to Norway with Army
  Outdoor Recreation.\n
X-ALT-DESC:FMTTYPE=text/html:<!DOCTYPE HTML PUBLIC "-//W3C//DTD HTML 3.2//E
 N"><HTML><p>Enjoy the spectacular beauty of the mountains and fjords of th
 e &ldquo\;<em>Land of the Midnight Sun</em>&rdquo\; when you <strong>fly t
 o Norway</strong> with <strong>Army Outdoor Recreation</strong>.</p>\n</HT
 ML>
CREATED;TZID=Europe/Berlin:20260330T112614
URL;VALUE=URI:https://kaiserslautern.armymwr.com/view-event
DTSTART;TZID=Europe/Berlin:20260525T000000
DTEND;TZID=Europe/Berlin:20260525T235959
SEQUENCE:4
END:VEVENT
END:VCALENDAR
