BEGIN:VCALENDAR
VERSION:2.0
PRODID:-//Sabre//Sabre VObject 4.5.8//EN
CALSCALE:GREGORIAN
BEGIN:VEVENT
UID:sabre-vobject-0092b101-10b2-4417-8ef8-638e277eb2bc
DTSTAMP:20260426T014643Z
SUMMARY:5K Leftover Run
DESCRIPTION:Register in Advance for This Family Friendly 5k.\n
X-ALT-DESC:FMTTYPE=text/html:<!DOCTYPE HTML PUBLIC "-//W3C//DTD HTML 3.2//E
 N"><HTML><p>Register in Advance for This Family Friendly 5k.</p>\n</HTML>
CREATED;TZID=Europe/Berlin:20251021T112539
URL;VALUE=URI:https://kaiserslautern.armymwr.com/view-event
DTSTART;TZID=Europe/Berlin:20251129T100000
DTEND;TZID=Europe/Berlin:20251129T120000
SEQUENCE:0
END:VEVENT
END:VCALENDAR
