BEGIN:VCALENDAR
VERSION:2.0
PRODID:-//Sabre//Sabre VObject 4.5.8//EN
CALSCALE:GREGORIAN
BEGIN:VEVENT
UID:sabre-vobject-818ac7ec-a669-4c06-a206-d2b52e327136
DTSTAMP:20260424T204251Z
SUMMARY:Fireside Storytimes
DESCRIPTION:Cozy Moments\, Timeless Stories.&nbsp\;\n
X-ALT-DESC:FMTTYPE=text/html:<!DOCTYPE HTML PUBLIC "-//W3C//DTD HTML 3.2//E
 N"><HTML><p>Cozy Moments\, Timeless Stories.&nbsp\;</p>\n</HTML>
CREATED;TZID=Europe/Berlin:20251119T140102
URL;VALUE=URI:https://kaiserslautern.armymwr.com/view-event
DTSTART;TZID=Europe/Berlin:20251210T100000
DTEND;TZID=Europe/Berlin:20251210T110000
SEQUENCE:0
END:VEVENT
BEGIN:VEVENT
UID:sabre-vobject-c6c5de9b-508c-4008-83c4-1a0cd35e8b24
DTSTAMP:20260424T204251Z
SUMMARY:Fireside Storytimes
DESCRIPTION:Cozy Moments\, Timeless Stories.&nbsp\;\n
X-ALT-DESC:FMTTYPE=text/html:<!DOCTYPE HTML PUBLIC "-//W3C//DTD HTML 3.2//E
 N"><HTML><p>Cozy Moments\, Timeless Stories.&nbsp\;</p>\n</HTML>
CREATED;TZID=Europe/Berlin:20251119T140102
URL;VALUE=URI:https://kaiserslautern.armymwr.com/view-event
DTSTART;TZID=Europe/Berlin:20251210T180000
DTEND;TZID=Europe/Berlin:20251210T190000
SEQUENCE:1
END:VEVENT
END:VCALENDAR
