BEGIN:VCALENDAR
VERSION:2.0
PRODID:-//Sabre//Sabre VObject 4.5.8//EN
CALSCALE:GREGORIAN
BEGIN:VEVENT
UID:sabre-vobject-7b61b75b-7ec6-4665-8c39-8b12f8515c18
DTSTAMP:20260422T114032Z
SUMMARY:Live Salsa Music featuring Puertorican Flavour
DESCRIPTION:Admission costs $12 at the door or $10 for tickets in advance.&
 nbsp\;\n
X-ALT-DESC:FMTTYPE=text/html:<!DOCTYPE HTML PUBLIC "-//W3C//DTD HTML 3.2//E
 N"><HTML><p>Admission costs $12 at the door or $10 for tickets in advance.
 &nbsp\;</p>\n</HTML>
CREATED;TZID=Europe/Berlin:20260202T102223
URL;VALUE=URI:https://kaiserslautern.armymwr.com/view-event
DTSTART;TZID=Europe/Berlin:20260206T190000
DTEND;TZID=Europe/Berlin:20260206T000000
SEQUENCE:0
END:VEVENT
END:VCALENDAR
