BEGIN:VCALENDAR
VERSION:2.0
PRODID:-//Sabre//Sabre VObject 4.5.8//EN
CALSCALE:GREGORIAN
BEGIN:VEVENT
UID:sabre-vobject-cac8506e-3131-4d22-b8ff-ec468744a0a0
DTSTAMP:20260421T133041Z
SUMMARY:Ski Express - Ischgl\, Austria
DESCRIPTION:Kaiserslautern Outdoor Recreation&nbsp\;and&nbsp\;Baumholder Ou
 tdoor Recreation&nbsp\;have teamed up to make it even easier for you to&nb
 sp\;ski and snowboard the Alps this ski season. The same adventures begin 
 at&nbsp\;your choice of either Smith or Pulaski Barracks.\n
X-ALT-DESC:FMTTYPE=text/html:<!DOCTYPE HTML PUBLIC "-//W3C//DTD HTML 3.2//E
 N"><HTML><p><strong>Kaiserslautern Outdoor Recreation</strong>&nbsp\;and&n
 bsp\;<strong>Baumholder Outdoor Recreation</strong>&nbsp\;have teamed up t
 o make it even easier for you to&nbsp\;<strong>ski and snowboard the Alps 
 </strong>this ski season. The same adventures begin at&nbsp\;<strong>your 
 choice of either Smith or Pulaski Barracks.</strong></p>\n</HTML>
CREATED;TZID=Europe/Berlin:20260227T142647
URL;VALUE=URI:https://kaiserslautern.armymwr.com/view-event
DTSTART;TZID=Europe/Berlin:20260320T000000
DTEND;TZID=Europe/Berlin:20260320T235959
SEQUENCE:0
END:VEVENT
BEGIN:VEVENT
UID:sabre-vobject-747d7345-8f3e-4bd7-91f8-bfacb2d2c6ef
DTSTAMP:20260421T133041Z
SUMMARY:Ski Express - Ischgl\, Austria
DESCRIPTION:Kaiserslautern Outdoor Recreation&nbsp\;and&nbsp\;Baumholder Ou
 tdoor Recreation&nbsp\;have teamed up to make it even easier for you to&nb
 sp\;ski and snowboard the Alps this ski season. The same adventures begin 
 at&nbsp\;your choice of either Smith or Pulaski Barracks.\n
X-ALT-DESC:FMTTYPE=text/html:<!DOCTYPE HTML PUBLIC "-//W3C//DTD HTML 3.2//E
 N"><HTML><p><strong>Kaiserslautern Outdoor Recreation</strong>&nbsp\;and&n
 bsp\;<strong>Baumholder Outdoor Recreation</strong>&nbsp\;have teamed up t
 o make it even easier for you to&nbsp\;<strong>ski and snowboard the Alps 
 </strong>this ski season. The same adventures begin at&nbsp\;<strong>your 
 choice of either Smith or Pulaski Barracks.</strong></p>\n</HTML>
CREATED;TZID=Europe/Berlin:20260227T142647
URL;VALUE=URI:https://kaiserslautern.armymwr.com/view-event
DTSTART;TZID=Europe/Berlin:20260321T000000
DTEND;TZID=Europe/Berlin:20260321T235959
SEQUENCE:1
END:VEVENT
END:VCALENDAR
