BEGIN:VCALENDAR
VERSION:2.0
PRODID:-//Sabre//Sabre VObject 4.5.8//EN
CALSCALE:GREGORIAN
BEGIN:VEVENT
UID:sabre-vobject-e201af1d-9136-47d3-b177-8c593992527a
DTSTAMP:20260422T114104Z
SUMMARY:Rejuvenating Gamer Con
DESCRIPTION:Kick-back and game on at the Landstuhl Library\, no registratio
 n required!\n
X-ALT-DESC:FMTTYPE=text/html:<!DOCTYPE HTML PUBLIC "-//W3C//DTD HTML 3.2//E
 N"><HTML><p>Kick-back and game on at the Landstuhl Library\, no registrati
 on required!</p>\n</HTML>
CREATED;TZID=Europe/Berlin:20260120T120853
URL;VALUE=URI:https://kaiserslautern.armymwr.com/view-event
DTSTART;TZID=Europe/Berlin:20260214T100000
DTEND;TZID=Europe/Berlin:20260214T200000
SEQUENCE:0
END:VEVENT
END:VCALENDAR
