BEGIN:VCALENDAR
VERSION:2.0
PRODID:-//Sabre//Sabre VObject 4.5.8//EN
CALSCALE:GREGORIAN
BEGIN:VEVENT
UID:sabre-vobject-98644bfe-6638-413e-a460-536e86f522dd
DTSTAMP:20260421T201119Z
SUMMARY:Start Smart Baseball and Soccer Registration
DESCRIPTION:Registration is open&nbsp\;now until March 13 (or until teams a
 re full).&nbsp\;\n
X-ALT-DESC:FMTTYPE=text/html:<!DOCTYPE HTML PUBLIC "-//W3C//DTD HTML 3.2//E
 N"><HTML><p>Registration is open&nbsp\;now until <strong>March 13</strong>
  (or until teams are full).&nbsp\;</p>\n</HTML>
CREATED;TZID=Europe/Berlin:20260227T115551
URL;VALUE=URI:https://kaiserslautern.armymwr.com/view-event
DTSTART;TZID=Europe/Berlin:20260223T000000
DTEND;TZID=Europe/Berlin:20260223T235959
SEQUENCE:0
END:VEVENT
END:VCALENDAR
