BEGIN:VCALENDAR
VERSION:2.0
PRODID:-//Sabre//Sabre VObject 4.5.8//EN
CALSCALE:GREGORIAN
BEGIN:VEVENT
UID:sabre-vobject-57ea807b-36cd-46b6-b0a5-bb630213fca9
DTSTAMP:20260422T065334Z
SUMMARY:Savings & Investing
DESCRIPTION:Are you ready to learn the difference between saving and invest
 ing\, how to evaluate risk and return\; and how to create strategies that 
 support financial stability and independence?\n
X-ALT-DESC:FMTTYPE=text/html:<!DOCTYPE HTML PUBLIC "-//W3C//DTD HTML 3.2//E
 N"><HTML><p>Are you ready to learn the difference between saving and inves
 ting\, how to evaluate risk and return\; and how to create strategies that
  support financial stability and independence?</p>\n</HTML>
CREATED;TZID=Europe/Berlin:20260219T110104
URL;VALUE=URI:https://kaiserslautern.armymwr.com/view-event
DTSTART;TZID=Europe/Berlin:20260226T110000
DTEND;TZID=Europe/Berlin:20260226T120000
SEQUENCE:0
END:VEVENT
END:VCALENDAR
