BEGIN:VCALENDAR
VERSION:2.0
PRODID:-//Sabre//Sabre VObject 4.5.8//EN
CALSCALE:GREGORIAN
BEGIN:VEVENT
UID:sabre-vobject-ab7f2654-ac04-49ee-81d9-7b29b37cef28
DTSTAMP:20260421T004121Z
SUMMARY:Tax Preparation for Soldiers
DESCRIPTION:Equip yourself with the knowledge and tools needed for successf
 ul tax preparation.\n
X-ALT-DESC:FMTTYPE=text/html:<!DOCTYPE HTML PUBLIC "-//W3C//DTD HTML 3.2//E
 N"><HTML><p>Equip yourself with the knowledge and tools needed for success
 ful tax preparation.</p>\n</HTML>
CREATED;TZID=Europe/Berlin:20260219T140344
URL;VALUE=URI:https://kaiserslautern.armymwr.com/view-event
DTSTART;TZID=Europe/Berlin:20260325T140000
DTEND;TZID=Europe/Berlin:20260325T150000
SEQUENCE:0
END:VEVENT
END:VCALENDAR
