BEGIN:VCALENDAR
VERSION:2.0
PRODID:-//Sabre//Sabre VObject 4.5.8//EN
CALSCALE:GREGORIAN
BEGIN:VEVENT
UID:sabre-vobject-806ac18f-2f8d-433b-ba6f-7e3c13e60ac2
DTSTAMP:20260421T145357Z
SUMMARY:Planning Your Financial Future
DESCRIPTION:Are you ready to take control of your financial future?\n
X-ALT-DESC:FMTTYPE=text/html:<!DOCTYPE HTML PUBLIC "-//W3C//DTD HTML 3.2//E
 N"><HTML><p>Are you ready to take control of your financial future?</p>\n<
 /HTML>
CREATED;TZID=Europe/Berlin:20260219T142112
URL;VALUE=URI:https://kaiserslautern.armymwr.com/view-event
DTSTART;TZID=Europe/Berlin:20260319T110000
DTEND;TZID=Europe/Berlin:20260319T120000
SEQUENCE:0
END:VEVENT
END:VCALENDAR
