BEGIN:VCALENDAR
VERSION:2.0
PRODID:-//Sabre//Sabre VObject 4.5.8//EN
CALSCALE:GREGORIAN
BEGIN:VEVENT
UID:sabre-vobject-9a2f054a-2326-4dac-874a-56bd49069d06
DTSTAMP:20260420T160532Z
SUMMARY:Introduction to Via Ferrata- Learn to climb 
DESCRIPTION:Looking for an adrenaline-pumping experience that takes your ou
 tdoor skills to the next level? Join USAG Rheinland-Pfalz Army Outdoor Rec
 reation for the Stage 1 and 2 Klettersteig Manderscheid climb&mdash\;&nbsp
 \; We will teach basic techniques for new climbers\, how to properly wear 
 and employ climbing equipment\, navigate features\, and help you find the 
 joy of climbing that guarantees an unforgettable guided adventure!\n
X-ALT-DESC:FMTTYPE=text/html:<!DOCTYPE HTML PUBLIC "-//W3C//DTD HTML 3.2//E
 N"><HTML><p>Looking for an adrenaline-pumping experience that takes your o
 utdoor skills to the next level? Join <strong>USAG Rheinland-Pfalz Army Ou
 tdoor Recreation</strong> for the <strong>Stage 1 and 2 Klettersteig Mande
 rscheid</strong> climb&mdash\;&nbsp\; We will teach basic techniques for n
 ew climbers\, how to properly wear and employ climbing equipment\, navigat
 e features\, and help you find the joy of climbing that guarantees an unfo
 rgettable guided adventure!</p>\n</HTML>
CREATED;TZID=Europe/Berlin:20260223T111654
URL;VALUE=URI:https://kaiserslautern.armymwr.com/view-event
DTSTART;TZID=Europe/Berlin:20260411T060000
DTEND;TZID=Europe/Berlin:20260411T170000
SEQUENCE:0
END:VEVENT
END:VCALENDAR
