BEGIN:VCALENDAR
VERSION:2.0
PRODID:-//Sabre//Sabre VObject 4.5.8//EN
CALSCALE:GREGORIAN
BEGIN:VEVENT
UID:sabre-vobject-a7fede1e-d1c1-41c8-9bcd-feb2a70408f4
DTSTAMP:20260419T185429Z
SUMMARY:The Musical “Piper” Performance 
DESCRIPTION:This world premiere musical is a fresh retelling of the Pied Pi
 per of Hamelin full of twists and turns!\n
X-ALT-DESC:FMTTYPE=text/html:<!DOCTYPE HTML PUBLIC "-//W3C//DTD HTML 3.2//E
 N"><HTML><p>This world premiere musical is a fresh retelling of the Pied P
 iper of Hamelin full of twists and turns!</p>\n</HTML>
CREATED;TZID=Europe/Berlin:20260402T125250
URL;VALUE=URI:https://kaiserslautern.armymwr.com/view-event
DTSTART;TZID=Europe/Berlin:20260410T190000
DTEND;TZID=Europe/Berlin:20260410T210000
SEQUENCE:0
END:VEVENT
BEGIN:VEVENT
UID:sabre-vobject-96439af9-1a8d-427e-96b2-99037af900ab
DTSTAMP:20260419T185429Z
SUMMARY:The Musical “Piper” Performance 
DESCRIPTION:This world premiere musical is a fresh retelling of the Pied Pi
 per of Hamelin full of twists and turns!\n
X-ALT-DESC:FMTTYPE=text/html:<!DOCTYPE HTML PUBLIC "-//W3C//DTD HTML 3.2//E
 N"><HTML><p>This world premiere musical is a fresh retelling of the Pied P
 iper of Hamelin full of twists and turns!</p>\n</HTML>
CREATED;TZID=Europe/Berlin:20260402T125250
URL;VALUE=URI:https://kaiserslautern.armymwr.com/view-event
DTSTART;TZID=Europe/Berlin:20260411T190000
DTEND;TZID=Europe/Berlin:20260411T210000
SEQUENCE:1
END:VEVENT
BEGIN:VEVENT
UID:sabre-vobject-cf2da4f1-f2a6-4e29-bf2f-7475dc7214b7
DTSTAMP:20260419T185429Z
SUMMARY:The Musical “Piper” Performance 
DESCRIPTION:This world premiere musical is a fresh retelling of the Pied Pi
 per of Hamelin full of twists and turns!\n
X-ALT-DESC:FMTTYPE=text/html:<!DOCTYPE HTML PUBLIC "-//W3C//DTD HTML 3.2//E
 N"><HTML><p>This world premiere musical is a fresh retelling of the Pied P
 iper of Hamelin full of twists and turns!</p>\n</HTML>
CREATED;TZID=Europe/Berlin:20260402T125250
URL;VALUE=URI:https://kaiserslautern.armymwr.com/view-event
DTSTART;TZID=Europe/Berlin:20260412T140000
DTEND;TZID=Europe/Berlin:20260412T160000
SEQUENCE:2
END:VEVENT
BEGIN:VEVENT
UID:sabre-vobject-fb71f84d-2f93-44b1-a6cf-f1a64419dbe9
DTSTAMP:20260419T185429Z
SUMMARY:The Musical “Piper” Performance 
DESCRIPTION:This world premiere musical is a fresh retelling of the Pied Pi
 per of Hamelin full of twists and turns!\n
X-ALT-DESC:FMTTYPE=text/html:<!DOCTYPE HTML PUBLIC "-//W3C//DTD HTML 3.2//E
 N"><HTML><p>This world premiere musical is a fresh retelling of the Pied P
 iper of Hamelin full of twists and turns!</p>\n</HTML>
CREATED;TZID=Europe/Berlin:20260402T125250
URL;VALUE=URI:https://kaiserslautern.armymwr.com/view-event
DTSTART;TZID=Europe/Berlin:20260417T190000
DTEND;TZID=Europe/Berlin:20260417T210000
SEQUENCE:3
END:VEVENT
BEGIN:VEVENT
UID:sabre-vobject-0b92327e-7c7f-470e-8629-bf5e6abef1bf
DTSTAMP:20260419T185429Z
SUMMARY:The Musical “Piper” Performance 
DESCRIPTION:This world premiere musical is a fresh retelling of the Pied Pi
 per of Hamelin full of twists and turns!\n
X-ALT-DESC:FMTTYPE=text/html:<!DOCTYPE HTML PUBLIC "-//W3C//DTD HTML 3.2//E
 N"><HTML><p>This world premiere musical is a fresh retelling of the Pied P
 iper of Hamelin full of twists and turns!</p>\n</HTML>
CREATED;TZID=Europe/Berlin:20260402T125250
URL;VALUE=URI:https://kaiserslautern.armymwr.com/view-event
DTSTART;TZID=Europe/Berlin:20260418T190000
DTEND;TZID=Europe/Berlin:20260418T210000
SEQUENCE:4
END:VEVENT
BEGIN:VEVENT
UID:sabre-vobject-217d5a5a-b0f4-4454-aecb-394bda8dd139
DTSTAMP:20260419T185429Z
SUMMARY:The Musical “Piper” Performance 
DESCRIPTION:This world premiere musical is a fresh retelling of the Pied Pi
 per of Hamelin full of twists and turns!\n
X-ALT-DESC:FMTTYPE=text/html:<!DOCTYPE HTML PUBLIC "-//W3C//DTD HTML 3.2//E
 N"><HTML><p>This world premiere musical is a fresh retelling of the Pied P
 iper of Hamelin full of twists and turns!</p>\n</HTML>
CREATED;TZID=Europe/Berlin:20260402T125250
URL;VALUE=URI:https://kaiserslautern.armymwr.com/view-event
DTSTART;TZID=Europe/Berlin:20260419T140000
DTEND;TZID=Europe/Berlin:20260419T160000
SEQUENCE:5
END:VEVENT
END:VCALENDAR
