BEGIN:VCALENDAR
VERSION:2.0
PRODID:-//Sabre//Sabre VObject 4.5.8//EN
CALSCALE:GREGORIAN
BEGIN:VEVENT
UID:sabre-vobject-b14f9d47-e57e-4f26-a49f-ea34070606ff
DTSTAMP:20260426T014635Z
SUMMARY:Costco Shopping Spree
DESCRIPTION:Get ready for a VIP Trip to&nbsp\;France&#39\;s newest Costco!\
 n
X-ALT-DESC:FMTTYPE=text/html:<!DOCTYPE HTML PUBLIC "-//W3C//DTD HTML 3.2//E
 N"><HTML><p>Get ready for a VIP Trip to&nbsp\;<strong>France&#39\;s newest
  Costco</strong>!</p>\n</HTML>
CREATED;TZID=Europe/Berlin:20260424T170413
URL;VALUE=URI:https://kaiserslautern.armymwr.com/view-event
DTSTART;TZID=Europe/Berlin:20260516T130000
DTEND;TZID=Europe/Berlin:20260516T140000
SEQUENCE:0
END:VEVENT
END:VCALENDAR
