BEGIN:VCALENDAR
VERSION:2.0
PRODID:-//Sabre//Sabre VObject 4.5.8//EN
CALSCALE:GREGORIAN
BEGIN:VEVENT
UID:sabre-vobject-fad44f45-ca53-4afe-ade0-79af95bc906d
DTSTAMP:20260420T161822Z
SUMMARY:BOSS 1000/500 Pound Club
DESCRIPTION:Better Opportunities for Single Soldiers&rsquo\; Program is lau
 nching a new BOSS Fit challenge.&nbsp\;\n
X-ALT-DESC:FMTTYPE=text/html:<!DOCTYPE HTML PUBLIC "-//W3C//DTD HTML 3.2//E
 N"><HTML><p><strong>Better Opportunities for Single Soldiers&rsquo\;</stro
 ng> Program is launching a new <strong>BOSS Fit </strong>challenge.&nbsp\;
 </p>\n</HTML>
CREATED;TZID=Europe/Berlin:20260302T145522
URL;VALUE=URI:https://kaiserslautern.armymwr.com/view-event
DTSTART;TZID=Europe/Berlin:20260303T153000
DTEND;TZID=Europe/Berlin:20260303T163000
SEQUENCE:0
END:VEVENT
END:VCALENDAR
