BEGIN:VCALENDAR
VERSION:2.0
PRODID:-//Sabre//Sabre VObject 4.5.8//EN
CALSCALE:GREGORIAN
BEGIN:VEVENT
UID:sabre-vobject-6c430dca-9c0a-4b02-adcc-d690bcd9a8f0
DTSTAMP:20260419T121312Z
SUMMARY:Summer Tire Swap - April Special 
DESCRIPTION:Get $2 off any automatic car wash program&nbsp\;when you have y
 our summer tires swapped. Click here for more details.&nbsp\;\n
X-ALT-DESC:FMTTYPE=text/html:<!DOCTYPE HTML PUBLIC "-//W3C//DTD HTML 3.2//E
 N"><HTML><p>Get<strong> $2 off any automatic car wash</strong> program&nbs
 p\;when you have your summer tires swapped. <strong>Click here for more de
 tails.&nbsp\;</strong></p>\n</HTML>
CREATED;TZID=Europe/Berlin:20260302T153717
URL;VALUE=URI:https://kaiserslautern.armymwr.com/view-event
DTSTART;TZID=Europe/Berlin:20260401T000000
DTEND;TZID=Europe/Berlin:20260401T235959
SEQUENCE:0
END:VEVENT
END:VCALENDAR
