BEGIN:VCALENDAR
VERSION:2.0
PRODID:-//Sabre//Sabre VObject 4.5.8//EN
CALSCALE:GREGORIAN
BEGIN:VEVENT
UID:sabre-vobject-e2dd115c-4a4e-4c5f-b817-9b3424b198e9
DTSTAMP:20260421T042854Z
SUMMARY:Tri-Fit Cardio Madness 
DESCRIPTION:Registration for the Tri-Fit Cardio Madness is now to March 27.
 &nbsp\;\n
X-ALT-DESC:FMTTYPE=text/html:<!DOCTYPE HTML PUBLIC "-//W3C//DTD HTML 3.2//E
 N"><HTML><p><strong>Registration</strong> for the <strong>Tri-Fit Cardio M
 adness </strong>is <strong>now to March 27</strong>.&nbsp\;</p>\n</HTML>
CREATED;TZID=Europe/Berlin:20260303T104944
URL;VALUE=URI:https://kaiserslautern.armymwr.com/view-event
DTSTART;TZID=Europe/Berlin:20260303T000000
DTEND;TZID=Europe/Berlin:20260303T235959
SEQUENCE:0
END:VEVENT
END:VCALENDAR
