BEGIN:VCALENDAR
VERSION:2.0
PRODID:-//Sabre//Sabre VObject 4.5.8//EN
CALSCALE:GREGORIAN
BEGIN:VEVENT
UID:sabre-vobject-564160e2-f8bb-436a-95d9-308c315ac806
DTSTAMP:20260421T015252Z
SUMMARY:Live Country Music with Tom Mac and Line Dance Party
DESCRIPTION:Line dance instructions for any skill level.&nbsp\;\n
X-ALT-DESC:FMTTYPE=text/html:<!DOCTYPE HTML PUBLIC "-//W3C//DTD HTML 3.2//E
 N"><HTML><p>Line dance instructions for any skill level.&nbsp\;</p>\n</HTM
 L>
CREATED;TZID=Europe/Berlin:20260413T114205
URL;VALUE=URI:https://kaiserslautern.armymwr.com/view-event
DTSTART;TZID=Europe/Berlin:20260508T200000
DTEND;TZID=Europe/Berlin:20260508T010000
SEQUENCE:0
END:VEVENT
END:VCALENDAR
