BEGIN:VCALENDAR
VERSION:2.0
PRODID:-//Sabre//Sabre VObject 4.5.8//EN
CALSCALE:GREGORIAN
BEGIN:VEVENT
UID:sabre-vobject-ba115559-8c20-4e08-bbf0-f5b6ca655e97
DTSTAMP:20260421T205244Z
SUMMARY:Disneyland Express
DESCRIPTION:Become a hero to your kids by taking them to Disneyland Paris!
X-ALT-DESC:FMTTYPE=text/html:<!DOCTYPE HTML PUBLIC "-//W3C//DTD HTML 3.2//E
 N"><HTML>Become a hero to your kids by taking them to Disneyland Paris!</H
 TML>
CREATED;TZID=Europe/Berlin:20170913T134246
URL;VALUE=URI:https://kaiserslautern.armymwr.com/view-event
DTSTART;TZID=Europe/Berlin:20161022T000000
DTEND;TZID=Europe/Berlin:20161022T000000
SEQUENCE:0
END:VEVENT
END:VCALENDAR
