BEGIN:VCALENDAR
VERSION:2.0
PRODID:-//Sabre//Sabre VObject 4.5.8//EN
CALSCALE:GREGORIAN
BEGIN:VEVENT
UID:sabre-vobject-e2f9e4a4-3f81-4d7d-b119-cdc66a891e51
DTSTAMP:20260424T094235Z
SUMMARY:Mixed Level Yoga With Weights Pulaski
DESCRIPTION:Improve flexibility\, strength\, and cardiovascular fitness.\n
X-ALT-DESC:FMTTYPE=text/html:<!DOCTYPE HTML PUBLIC "-//W3C//DTD HTML 3.2//E
 N"><HTML><p>Improve flexibility\, strength\, and cardiovascular fitness.</
 p>\n</HTML>
CREATED;TZID=Europe/Berlin:20201001T105529
URL;VALUE=URI:https://kaiserslautern.armymwr.com/view-event
DTSTART;TZID=Europe/Berlin:20191007T120000
DTEND;TZID=Europe/Berlin:20191007T124500
SEQUENCE:0
END:VEVENT
END:VCALENDAR
