BEGIN:VCALENDAR
VERSION:2.0
PRODID:-//Sabre//Sabre VObject 4.5.8//EN
CALSCALE:GREGORIAN
BEGIN:VEVENT
UID:sabre-vobject-a8b11dc1-9262-4b24-806b-ba865fe4470a
DTSTAMP:20260419T133807Z
SUMMARY:Jazz Night
DESCRIPTION:Enjoy&nbsp\;a live Jazz band!\n
X-ALT-DESC:FMTTYPE=text/html:<!DOCTYPE HTML PUBLIC "-//W3C//DTD HTML 3.2//E
 N"><HTML><p>Enjoy&nbsp\;a live Jazz band!</p>\n</HTML>
CREATED;TZID=Europe/Berlin:20190115T125149
URL;VALUE=URI:https://kaiserslautern.armymwr.com/view-event
DTSTART;TZID=Europe/Berlin:20190223T210000
DTEND;TZID=Europe/Berlin:20190223T020000
SEQUENCE:0
END:VEVENT
END:VCALENDAR
