BEGIN:VCALENDAR
VERSION:2.0
PRODID:-//Sabre//Sabre VObject 4.5.8//EN
CALSCALE:GREGORIAN
BEGIN:VEVENT
UID:sabre-vobject-db69b3e8-abc5-49a2-9f97-89cf526c6448
DTSTAMP:20260425T023006Z
SUMMARY:Basic Training for New Parents - ONLINE
DESCRIPTION:Learn what to expect as a new parent!\n
X-ALT-DESC:FMTTYPE=text/html:<!DOCTYPE HTML PUBLIC "-//W3C//DTD HTML 3.2//E
 N"><HTML><p>Learn what to expect as a new parent!</p>\n</HTML>
CREATED;TZID=Europe/Berlin:20250903T091332
URL;VALUE=URI:https://kaiserslautern.armymwr.com/view-event
DTSTART;TZID=Europe/Berlin:20191002T090000
DTEND;TZID=Europe/Berlin:20191002T130000
SEQUENCE:0
END:VEVENT
BEGIN:VEVENT
UID:sabre-vobject-b35b59c4-2501-4b4c-b738-aca751e9abba
DTSTAMP:20260425T023006Z
SUMMARY:Basic Training for New Parents - ONLINE
DESCRIPTION:Learn what to expect as a new parent!\n
X-ALT-DESC:FMTTYPE=text/html:<!DOCTYPE HTML PUBLIC "-//W3C//DTD HTML 3.2//E
 N"><HTML><p>Learn what to expect as a new parent!</p>\n</HTML>
CREATED;TZID=Europe/Berlin:20250903T091332
URL;VALUE=URI:https://kaiserslautern.armymwr.com/view-event
DTSTART;TZID=Europe/Berlin:20220608T090000
DTEND;TZID=Europe/Berlin:20220608T130000
SEQUENCE:1
END:VEVENT
BEGIN:VEVENT
UID:sabre-vobject-fef9286d-609d-4aec-af65-5159282a9484
DTSTAMP:20260425T023006Z
SUMMARY:Basic Training for New Parents - ONLINE
DESCRIPTION:Learn what to expect as a new parent!\n
X-ALT-DESC:FMTTYPE=text/html:<!DOCTYPE HTML PUBLIC "-//W3C//DTD HTML 3.2//E
 N"><HTML><p>Learn what to expect as a new parent!</p>\n</HTML>
CREATED;TZID=Europe/Berlin:20250903T091332
URL;VALUE=URI:https://kaiserslautern.armymwr.com/view-event
DTSTART;TZID=Europe/Berlin:20220713T090000
DTEND;TZID=Europe/Berlin:20220713T130000
SEQUENCE:2
END:VEVENT
BEGIN:VEVENT
UID:sabre-vobject-50b1a577-8378-4c4a-99ad-f82402929c74
DTSTAMP:20260425T023006Z
SUMMARY:Basic Training for New Parents - ONLINE
DESCRIPTION:Learn what to expect as a new parent!\n
X-ALT-DESC:FMTTYPE=text/html:<!DOCTYPE HTML PUBLIC "-//W3C//DTD HTML 3.2//E
 N"><HTML><p>Learn what to expect as a new parent!</p>\n</HTML>
CREATED;TZID=Europe/Berlin:20250903T091332
URL;VALUE=URI:https://kaiserslautern.armymwr.com/view-event
DTSTART;TZID=Europe/Berlin:20220810T090000
DTEND;TZID=Europe/Berlin:20220810T130000
SEQUENCE:3
END:VEVENT
BEGIN:VEVENT
UID:sabre-vobject-6a2eed1a-40ab-4737-95ee-6700e7188036
DTSTAMP:20260425T023006Z
SUMMARY:Basic Training for New Parents - ONLINE
DESCRIPTION:Learn what to expect as a new parent!\n
X-ALT-DESC:FMTTYPE=text/html:<!DOCTYPE HTML PUBLIC "-//W3C//DTD HTML 3.2//E
 N"><HTML><p>Learn what to expect as a new parent!</p>\n</HTML>
CREATED;TZID=Europe/Berlin:20250903T091332
URL;VALUE=URI:https://kaiserslautern.armymwr.com/view-event
DTSTART;TZID=Europe/Berlin:20220816T173000
DTEND;TZID=Europe/Berlin:20220816T203000
SEQUENCE:4
END:VEVENT
BEGIN:VEVENT
UID:sabre-vobject-863c5012-6b3f-4915-875e-8a4e3ed4eec0
DTSTAMP:20260425T023006Z
SUMMARY:Basic Training for New Parents - ONLINE
DESCRIPTION:Learn what to expect as a new parent!\n
X-ALT-DESC:FMTTYPE=text/html:<!DOCTYPE HTML PUBLIC "-//W3C//DTD HTML 3.2//E
 N"><HTML><p>Learn what to expect as a new parent!</p>\n</HTML>
CREATED;TZID=Europe/Berlin:20250903T091332
URL;VALUE=URI:https://kaiserslautern.armymwr.com/view-event
DTSTART;TZID=Europe/Berlin:20220907T090000
DTEND;TZID=Europe/Berlin:20220907T130000
SEQUENCE:5
END:VEVENT
BEGIN:VEVENT
UID:sabre-vobject-475d89da-b375-4415-9895-7725d302e222
DTSTAMP:20260425T023006Z
SUMMARY:Basic Training for New Parents - ONLINE
DESCRIPTION:Learn what to expect as a new parent!\n
X-ALT-DESC:FMTTYPE=text/html:<!DOCTYPE HTML PUBLIC "-//W3C//DTD HTML 3.2//E
 N"><HTML><p>Learn what to expect as a new parent!</p>\n</HTML>
CREATED;TZID=Europe/Berlin:20250903T091332
URL;VALUE=URI:https://kaiserslautern.armymwr.com/view-event
DTSTART;TZID=Europe/Berlin:20220920T173000
DTEND;TZID=Europe/Berlin:20220920T203000
SEQUENCE:6
END:VEVENT
BEGIN:VEVENT
UID:sabre-vobject-0e354802-c373-489c-8199-f13aab889d9a
DTSTAMP:20260425T023006Z
SUMMARY:Basic Training for New Parents - ONLINE
DESCRIPTION:Learn what to expect as a new parent!\n
X-ALT-DESC:FMTTYPE=text/html:<!DOCTYPE HTML PUBLIC "-//W3C//DTD HTML 3.2//E
 N"><HTML><p>Learn what to expect as a new parent!</p>\n</HTML>
CREATED;TZID=Europe/Berlin:20250903T091332
URL;VALUE=URI:https://kaiserslautern.armymwr.com/view-event
DTSTART;TZID=Europe/Berlin:20220914T090000
DTEND;TZID=Europe/Berlin:20220914T130000
SEQUENCE:7
END:VEVENT
BEGIN:VEVENT
UID:sabre-vobject-3591de57-d1ab-4968-b25f-63b76222177f
DTSTAMP:20260425T023006Z
SUMMARY:Basic Training for New Parents - ONLINE
DESCRIPTION:Learn what to expect as a new parent!\n
X-ALT-DESC:FMTTYPE=text/html:<!DOCTYPE HTML PUBLIC "-//W3C//DTD HTML 3.2//E
 N"><HTML><p>Learn what to expect as a new parent!</p>\n</HTML>
CREATED;TZID=Europe/Berlin:20250903T091332
URL;VALUE=URI:https://kaiserslautern.armymwr.com/view-event
DTSTART;TZID=Europe/Berlin:20221012T090000
DTEND;TZID=Europe/Berlin:20221012T130000
SEQUENCE:8
END:VEVENT
BEGIN:VEVENT
UID:sabre-vobject-bdb9a39d-8733-4bc8-8bb5-5f0e876ae072
DTSTAMP:20260425T023006Z
SUMMARY:Basic Training for New Parents - ONLINE
DESCRIPTION:Learn what to expect as a new parent!\n
X-ALT-DESC:FMTTYPE=text/html:<!DOCTYPE HTML PUBLIC "-//W3C//DTD HTML 3.2//E
 N"><HTML><p>Learn what to expect as a new parent!</p>\n</HTML>
CREATED;TZID=Europe/Berlin:20250903T091332
URL;VALUE=URI:https://kaiserslautern.armymwr.com/view-event
DTSTART;TZID=Europe/Berlin:20221109T090000
DTEND;TZID=Europe/Berlin:20221109T130000
SEQUENCE:9
END:VEVENT
BEGIN:VEVENT
UID:sabre-vobject-c65708fc-cfbd-4758-97de-3e2a8ddeeca2
DTSTAMP:20260425T023006Z
SUMMARY:Basic Training for New Parents - ONLINE
DESCRIPTION:Learn what to expect as a new parent!\n
X-ALT-DESC:FMTTYPE=text/html:<!DOCTYPE HTML PUBLIC "-//W3C//DTD HTML 3.2//E
 N"><HTML><p>Learn what to expect as a new parent!</p>\n</HTML>
CREATED;TZID=Europe/Berlin:20250903T091332
URL;VALUE=URI:https://kaiserslautern.armymwr.com/view-event
DTSTART;TZID=Europe/Berlin:20221115T173000
DTEND;TZID=Europe/Berlin:20221115T203000
SEQUENCE:10
END:VEVENT
BEGIN:VEVENT
UID:sabre-vobject-43d26920-5b21-418e-9cae-c94046874620
DTSTAMP:20260425T023006Z
SUMMARY:Basic Training for New Parents - ONLINE
DESCRIPTION:Learn what to expect as a new parent!\n
X-ALT-DESC:FMTTYPE=text/html:<!DOCTYPE HTML PUBLIC "-//W3C//DTD HTML 3.2//E
 N"><HTML><p>Learn what to expect as a new parent!</p>\n</HTML>
CREATED;TZID=Europe/Berlin:20250903T091332
URL;VALUE=URI:https://kaiserslautern.armymwr.com/view-event
DTSTART;TZID=Europe/Berlin:20221214T090000
DTEND;TZID=Europe/Berlin:20221214T130000
SEQUENCE:11
END:VEVENT
BEGIN:VEVENT
UID:sabre-vobject-53b2a34f-5466-4e27-adf0-fba4aa13f012
DTSTAMP:20260425T023006Z
SUMMARY:Basic Training for New Parents - ONLINE
DESCRIPTION:Learn what to expect as a new parent!\n
X-ALT-DESC:FMTTYPE=text/html:<!DOCTYPE HTML PUBLIC "-//W3C//DTD HTML 3.2//E
 N"><HTML><p>Learn what to expect as a new parent!</p>\n</HTML>
CREATED;TZID=Europe/Berlin:20250903T091332
URL;VALUE=URI:https://kaiserslautern.armymwr.com/view-event
DTSTART;TZID=Europe/Berlin:20221220T173000
DTEND;TZID=Europe/Berlin:20221220T203000
SEQUENCE:12
END:VEVENT
BEGIN:VEVENT
UID:sabre-vobject-746ef93b-e5a2-43de-baed-634e13705e7a
DTSTAMP:20260425T023006Z
SUMMARY:Basic Training for New Parents - ONLINE
DESCRIPTION:Learn what to expect as a new parent!\n
X-ALT-DESC:FMTTYPE=text/html:<!DOCTYPE HTML PUBLIC "-//W3C//DTD HTML 3.2//E
 N"><HTML><p>Learn what to expect as a new parent!</p>\n</HTML>
CREATED;TZID=Europe/Berlin:20250903T091332
URL;VALUE=URI:https://kaiserslautern.armymwr.com/view-event
DTSTART;TZID=Europe/Berlin:20230117T173000
DTEND;TZID=Europe/Berlin:20230117T213000
SEQUENCE:13
END:VEVENT
BEGIN:VEVENT
UID:sabre-vobject-5681c56e-9201-498f-9784-3aaddd391987
DTSTAMP:20260425T023006Z
SUMMARY:Basic Training for New Parents - ONLINE
DESCRIPTION:Learn what to expect as a new parent!\n
X-ALT-DESC:FMTTYPE=text/html:<!DOCTYPE HTML PUBLIC "-//W3C//DTD HTML 3.2//E
 N"><HTML><p>Learn what to expect as a new parent!</p>\n</HTML>
CREATED;TZID=Europe/Berlin:20250903T091332
URL;VALUE=URI:https://kaiserslautern.armymwr.com/view-event
DTSTART;TZID=Europe/Berlin:20230221T173000
DTEND;TZID=Europe/Berlin:20230221T213000
SEQUENCE:14
END:VEVENT
BEGIN:VEVENT
UID:sabre-vobject-eecb788f-7834-4a9a-8e50-4cd36a25bc41
DTSTAMP:20260425T023006Z
SUMMARY:Basic Training for New Parents - ONLINE
DESCRIPTION:Learn what to expect as a new parent!\n
X-ALT-DESC:FMTTYPE=text/html:<!DOCTYPE HTML PUBLIC "-//W3C//DTD HTML 3.2//E
 N"><HTML><p>Learn what to expect as a new parent!</p>\n</HTML>
CREATED;TZID=Europe/Berlin:20250903T091332
URL;VALUE=URI:https://kaiserslautern.armymwr.com/view-event
DTSTART;TZID=Europe/Berlin:20230321T173000
DTEND;TZID=Europe/Berlin:20230321T213000
SEQUENCE:15
END:VEVENT
BEGIN:VEVENT
UID:sabre-vobject-4dbff7bd-552c-43c2-ab6f-1f8d44ceb52c
DTSTAMP:20260425T023006Z
SUMMARY:Basic Training for New Parents - ONLINE
DESCRIPTION:Learn what to expect as a new parent!\n
X-ALT-DESC:FMTTYPE=text/html:<!DOCTYPE HTML PUBLIC "-//W3C//DTD HTML 3.2//E
 N"><HTML><p>Learn what to expect as a new parent!</p>\n</HTML>
CREATED;TZID=Europe/Berlin:20250903T091332
URL;VALUE=URI:https://kaiserslautern.armymwr.com/view-event
DTSTART;TZID=Europe/Berlin:20230418T173000
DTEND;TZID=Europe/Berlin:20230418T213000
SEQUENCE:16
END:VEVENT
BEGIN:VEVENT
UID:sabre-vobject-abf86ee6-92c3-4500-9d15-eafd8656ee63
DTSTAMP:20260425T023006Z
SUMMARY:Basic Training for New Parents - ONLINE
DESCRIPTION:Learn what to expect as a new parent!\n
X-ALT-DESC:FMTTYPE=text/html:<!DOCTYPE HTML PUBLIC "-//W3C//DTD HTML 3.2//E
 N"><HTML><p>Learn what to expect as a new parent!</p>\n</HTML>
CREATED;TZID=Europe/Berlin:20250903T091332
URL;VALUE=URI:https://kaiserslautern.armymwr.com/view-event
DTSTART;TZID=Europe/Berlin:20230516T173000
DTEND;TZID=Europe/Berlin:20230516T213000
SEQUENCE:17
END:VEVENT
BEGIN:VEVENT
UID:sabre-vobject-62f19460-06b4-4fc4-8cef-d7c53491fdab
DTSTAMP:20260425T023006Z
SUMMARY:Basic Training for New Parents - ONLINE
DESCRIPTION:Learn what to expect as a new parent!\n
X-ALT-DESC:FMTTYPE=text/html:<!DOCTYPE HTML PUBLIC "-//W3C//DTD HTML 3.2//E
 N"><HTML><p>Learn what to expect as a new parent!</p>\n</HTML>
CREATED;TZID=Europe/Berlin:20250903T091332
URL;VALUE=URI:https://kaiserslautern.armymwr.com/view-event
DTSTART;TZID=Europe/Berlin:20230620T173000
DTEND;TZID=Europe/Berlin:20230620T213000
SEQUENCE:18
END:VEVENT
BEGIN:VEVENT
UID:sabre-vobject-e025137e-f88a-403e-b5a1-605067e7c526
DTSTAMP:20260425T023006Z
SUMMARY:Basic Training for New Parents - ONLINE
DESCRIPTION:Learn what to expect as a new parent!\n
X-ALT-DESC:FMTTYPE=text/html:<!DOCTYPE HTML PUBLIC "-//W3C//DTD HTML 3.2//E
 N"><HTML><p>Learn what to expect as a new parent!</p>\n</HTML>
CREATED;TZID=Europe/Berlin:20250903T091332
URL;VALUE=URI:https://kaiserslautern.armymwr.com/view-event
DTSTART;TZID=Europe/Berlin:20230705T090000
DTEND;TZID=Europe/Berlin:20230705T130000
SEQUENCE:19
END:VEVENT
BEGIN:VEVENT
UID:sabre-vobject-c25a4413-5262-4bf4-b5c4-ea1cf9b0755c
DTSTAMP:20260425T023006Z
SUMMARY:Basic Training for New Parents - ONLINE
DESCRIPTION:Learn what to expect as a new parent!\n
X-ALT-DESC:FMTTYPE=text/html:<!DOCTYPE HTML PUBLIC "-//W3C//DTD HTML 3.2//E
 N"><HTML><p>Learn what to expect as a new parent!</p>\n</HTML>
CREATED;TZID=Europe/Berlin:20250903T091332
URL;VALUE=URI:https://kaiserslautern.armymwr.com/view-event
DTSTART;TZID=Europe/Berlin:20230718T173000
DTEND;TZID=Europe/Berlin:20230718T213000
SEQUENCE:20
END:VEVENT
BEGIN:VEVENT
UID:sabre-vobject-b4eb07f8-f8c0-44ed-9292-86f4bb83a5a9
DTSTAMP:20260425T023006Z
SUMMARY:Basic Training for New Parents - ONLINE
DESCRIPTION:Learn what to expect as a new parent!\n
X-ALT-DESC:FMTTYPE=text/html:<!DOCTYPE HTML PUBLIC "-//W3C//DTD HTML 3.2//E
 N"><HTML><p>Learn what to expect as a new parent!</p>\n</HTML>
CREATED;TZID=Europe/Berlin:20250903T091332
URL;VALUE=URI:https://kaiserslautern.armymwr.com/view-event
DTSTART;TZID=Europe/Berlin:20230802T090000
DTEND;TZID=Europe/Berlin:20230802T130000
SEQUENCE:21
END:VEVENT
BEGIN:VEVENT
UID:sabre-vobject-c373aa48-ac76-42b6-882c-7cafd47ba8ad
DTSTAMP:20260425T023006Z
SUMMARY:Basic Training for New Parents - ONLINE
DESCRIPTION:Learn what to expect as a new parent!\n
X-ALT-DESC:FMTTYPE=text/html:<!DOCTYPE HTML PUBLIC "-//W3C//DTD HTML 3.2//E
 N"><HTML><p>Learn what to expect as a new parent!</p>\n</HTML>
CREATED;TZID=Europe/Berlin:20250903T091332
URL;VALUE=URI:https://kaiserslautern.armymwr.com/view-event
DTSTART;TZID=Europe/Berlin:20230815T173000
DTEND;TZID=Europe/Berlin:20230815T213000
SEQUENCE:22
END:VEVENT
BEGIN:VEVENT
UID:sabre-vobject-0ebaa0b3-fb4d-4e9c-b95a-0490f6e45bb9
DTSTAMP:20260425T023006Z
SUMMARY:Basic Training for New Parents - ONLINE
DESCRIPTION:Learn what to expect as a new parent!\n
X-ALT-DESC:FMTTYPE=text/html:<!DOCTYPE HTML PUBLIC "-//W3C//DTD HTML 3.2//E
 N"><HTML><p>Learn what to expect as a new parent!</p>\n</HTML>
CREATED;TZID=Europe/Berlin:20250903T091332
URL;VALUE=URI:https://kaiserslautern.armymwr.com/view-event
DTSTART;TZID=Europe/Berlin:20230906T090000
DTEND;TZID=Europe/Berlin:20230906T130000
SEQUENCE:23
END:VEVENT
BEGIN:VEVENT
UID:sabre-vobject-904c4cd8-2c7f-4a4e-a2a7-53cc31903b2e
DTSTAMP:20260425T023006Z
SUMMARY:Basic Training for New Parents - ONLINE
DESCRIPTION:Learn what to expect as a new parent!\n
X-ALT-DESC:FMTTYPE=text/html:<!DOCTYPE HTML PUBLIC "-//W3C//DTD HTML 3.2//E
 N"><HTML><p>Learn what to expect as a new parent!</p>\n</HTML>
CREATED;TZID=Europe/Berlin:20250903T091332
URL;VALUE=URI:https://kaiserslautern.armymwr.com/view-event
DTSTART;TZID=Europe/Berlin:20230919T173000
DTEND;TZID=Europe/Berlin:20230919T213000
SEQUENCE:24
END:VEVENT
BEGIN:VEVENT
UID:sabre-vobject-f20fa9f3-5317-40b0-94bf-1ad3bc8e008e
DTSTAMP:20260425T023006Z
SUMMARY:Basic Training for New Parents - ONLINE
DESCRIPTION:Learn what to expect as a new parent!\n
X-ALT-DESC:FMTTYPE=text/html:<!DOCTYPE HTML PUBLIC "-//W3C//DTD HTML 3.2//E
 N"><HTML><p>Learn what to expect as a new parent!</p>\n</HTML>
CREATED;TZID=Europe/Berlin:20250903T091332
URL;VALUE=URI:https://kaiserslautern.armymwr.com/view-event
DTSTART;TZID=Europe/Berlin:20231004T090000
DTEND;TZID=Europe/Berlin:20231004T130000
SEQUENCE:25
END:VEVENT
BEGIN:VEVENT
UID:sabre-vobject-f0299c48-4ae5-42d8-ab42-60f7e0c3d352
DTSTAMP:20260425T023006Z
SUMMARY:Basic Training for New Parents - ONLINE
DESCRIPTION:Learn what to expect as a new parent!\n
X-ALT-DESC:FMTTYPE=text/html:<!DOCTYPE HTML PUBLIC "-//W3C//DTD HTML 3.2//E
 N"><HTML><p>Learn what to expect as a new parent!</p>\n</HTML>
CREATED;TZID=Europe/Berlin:20250903T091332
URL;VALUE=URI:https://kaiserslautern.armymwr.com/view-event
DTSTART;TZID=Europe/Berlin:20231017T173000
DTEND;TZID=Europe/Berlin:20231017T213000
SEQUENCE:26
END:VEVENT
BEGIN:VEVENT
UID:sabre-vobject-2af23f6c-d8a5-4b24-8cc8-593d9f7ec485
DTSTAMP:20260425T023006Z
SUMMARY:Basic Training for New Parents - ONLINE
DESCRIPTION:Learn what to expect as a new parent!\n
X-ALT-DESC:FMTTYPE=text/html:<!DOCTYPE HTML PUBLIC "-//W3C//DTD HTML 3.2//E
 N"><HTML><p>Learn what to expect as a new parent!</p>\n</HTML>
CREATED;TZID=Europe/Berlin:20250903T091332
URL;VALUE=URI:https://kaiserslautern.armymwr.com/view-event
DTSTART;TZID=Europe/Berlin:20231101T090000
DTEND;TZID=Europe/Berlin:20231101T130000
SEQUENCE:27
END:VEVENT
BEGIN:VEVENT
UID:sabre-vobject-c3b7e528-6ee5-457d-aa2b-4abd587038bd
DTSTAMP:20260425T023006Z
SUMMARY:Basic Training for New Parents - ONLINE
DESCRIPTION:Learn what to expect as a new parent!\n
X-ALT-DESC:FMTTYPE=text/html:<!DOCTYPE HTML PUBLIC "-//W3C//DTD HTML 3.2//E
 N"><HTML><p>Learn what to expect as a new parent!</p>\n</HTML>
CREATED;TZID=Europe/Berlin:20250903T091332
URL;VALUE=URI:https://kaiserslautern.armymwr.com/view-event
DTSTART;TZID=Europe/Berlin:20231121T173000
DTEND;TZID=Europe/Berlin:20231121T213000
SEQUENCE:28
END:VEVENT
BEGIN:VEVENT
UID:sabre-vobject-2af1bf78-f52b-4140-90e6-703ae3ae69f4
DTSTAMP:20260425T023006Z
SUMMARY:Basic Training for New Parents - ONLINE
DESCRIPTION:Learn what to expect as a new parent!\n
X-ALT-DESC:FMTTYPE=text/html:<!DOCTYPE HTML PUBLIC "-//W3C//DTD HTML 3.2//E
 N"><HTML><p>Learn what to expect as a new parent!</p>\n</HTML>
CREATED;TZID=Europe/Berlin:20250903T091332
URL;VALUE=URI:https://kaiserslautern.armymwr.com/view-event
DTSTART;TZID=Europe/Berlin:20231219T173000
DTEND;TZID=Europe/Berlin:20231219T213000
SEQUENCE:29
END:VEVENT
BEGIN:VEVENT
UID:sabre-vobject-ff85baf5-54b5-414e-be7a-6521736d5b5c
DTSTAMP:20260425T023006Z
SUMMARY:Basic Training for New Parents - ONLINE
DESCRIPTION:Learn what to expect as a new parent!\n
X-ALT-DESC:FMTTYPE=text/html:<!DOCTYPE HTML PUBLIC "-//W3C//DTD HTML 3.2//E
 N"><HTML><p>Learn what to expect as a new parent!</p>\n</HTML>
CREATED;TZID=Europe/Berlin:20250903T091332
URL;VALUE=URI:https://kaiserslautern.armymwr.com/view-event
DTSTART;TZID=Europe/Berlin:20240116T173000
DTEND;TZID=Europe/Berlin:20240116T213000
SEQUENCE:30
END:VEVENT
BEGIN:VEVENT
UID:sabre-vobject-250e741e-86bb-4e2c-8592-723bf0637a0b
DTSTAMP:20260425T023006Z
SUMMARY:Basic Training for New Parents - ONLINE
DESCRIPTION:Learn what to expect as a new parent!\n
X-ALT-DESC:FMTTYPE=text/html:<!DOCTYPE HTML PUBLIC "-//W3C//DTD HTML 3.2//E
 N"><HTML><p>Learn what to expect as a new parent!</p>\n</HTML>
CREATED;TZID=Europe/Berlin:20250903T091332
URL;VALUE=URI:https://kaiserslautern.armymwr.com/view-event
DTSTART;TZID=Europe/Berlin:20240103T090000
DTEND;TZID=Europe/Berlin:20240103T130000
SEQUENCE:31
END:VEVENT
BEGIN:VEVENT
UID:sabre-vobject-ba68b4c1-cd29-4bfa-9226-a2b157fad4bb
DTSTAMP:20260425T023006Z
SUMMARY:Basic Training for New Parents - ONLINE
DESCRIPTION:Learn what to expect as a new parent!\n
X-ALT-DESC:FMTTYPE=text/html:<!DOCTYPE HTML PUBLIC "-//W3C//DTD HTML 3.2//E
 N"><HTML><p>Learn what to expect as a new parent!</p>\n</HTML>
CREATED;TZID=Europe/Berlin:20250903T091332
URL;VALUE=URI:https://kaiserslautern.armymwr.com/view-event
DTSTART;TZID=Europe/Berlin:20231213T103000
DTEND;TZID=Europe/Berlin:20231213T113000
SEQUENCE:32
END:VEVENT
BEGIN:VEVENT
UID:sabre-vobject-89c482f7-d076-425e-82ec-9e8db7bc8797
DTSTAMP:20260425T023006Z
SUMMARY:Basic Training for New Parents - ONLINE
DESCRIPTION:Learn what to expect as a new parent!\n
X-ALT-DESC:FMTTYPE=text/html:<!DOCTYPE HTML PUBLIC "-//W3C//DTD HTML 3.2//E
 N"><HTML><p>Learn what to expect as a new parent!</p>\n</HTML>
CREATED;TZID=Europe/Berlin:20250903T091332
URL;VALUE=URI:https://kaiserslautern.armymwr.com/view-event
DTSTART;TZID=Europe/Berlin:20250318T173000
DTEND;TZID=Europe/Berlin:20250318T213000
SEQUENCE:33
END:VEVENT
BEGIN:VEVENT
UID:sabre-vobject-8946b7fb-f5b5-44cd-8b6a-6370238342a6
DTSTAMP:20260425T023006Z
SUMMARY:Basic Training for New Parents - ONLINE
DESCRIPTION:Learn what to expect as a new parent!\n
X-ALT-DESC:FMTTYPE=text/html:<!DOCTYPE HTML PUBLIC "-//W3C//DTD HTML 3.2//E
 N"><HTML><p>Learn what to expect as a new parent!</p>\n</HTML>
CREATED;TZID=Europe/Berlin:20250903T091332
URL;VALUE=URI:https://kaiserslautern.armymwr.com/view-event
DTSTART;TZID=Europe/Berlin:20250415T173000
DTEND;TZID=Europe/Berlin:20250415T213000
SEQUENCE:34
END:VEVENT
BEGIN:VEVENT
UID:sabre-vobject-1079aeb0-8c52-411a-87b1-8c4f703e305e
DTSTAMP:20260425T023006Z
SUMMARY:Basic Training for New Parents - ONLINE
DESCRIPTION:Learn what to expect as a new parent!\n
X-ALT-DESC:FMTTYPE=text/html:<!DOCTYPE HTML PUBLIC "-//W3C//DTD HTML 3.2//E
 N"><HTML><p>Learn what to expect as a new parent!</p>\n</HTML>
CREATED;TZID=Europe/Berlin:20250903T091332
URL;VALUE=URI:https://kaiserslautern.armymwr.com/view-event
DTSTART;TZID=Europe/Berlin:20250520T173000
DTEND;TZID=Europe/Berlin:20250520T213000
SEQUENCE:35
END:VEVENT
BEGIN:VEVENT
UID:sabre-vobject-92c701c2-c7cb-4f30-98d9-bc87a7ab6d30
DTSTAMP:20260425T023006Z
SUMMARY:Basic Training for New Parents - ONLINE
DESCRIPTION:Learn what to expect as a new parent!\n
X-ALT-DESC:FMTTYPE=text/html:<!DOCTYPE HTML PUBLIC "-//W3C//DTD HTML 3.2//E
 N"><HTML><p>Learn what to expect as a new parent!</p>\n</HTML>
CREATED;TZID=Europe/Berlin:20250903T091332
URL;VALUE=URI:https://kaiserslautern.armymwr.com/view-event
DTSTART;TZID=Europe/Berlin:20250617T173000
DTEND;TZID=Europe/Berlin:20250617T213000
SEQUENCE:36
END:VEVENT
BEGIN:VEVENT
UID:sabre-vobject-5035368c-baab-48a1-9a9e-c910fae3ea2c
DTSTAMP:20260425T023006Z
SUMMARY:Basic Training for New Parents - ONLINE
DESCRIPTION:Learn what to expect as a new parent!\n
X-ALT-DESC:FMTTYPE=text/html:<!DOCTYPE HTML PUBLIC "-//W3C//DTD HTML 3.2//E
 N"><HTML><p>Learn what to expect as a new parent!</p>\n</HTML>
CREATED;TZID=Europe/Berlin:20250903T091332
URL;VALUE=URI:https://kaiserslautern.armymwr.com/view-event
DTSTART;TZID=Europe/Berlin:20250715T173000
DTEND;TZID=Europe/Berlin:20250715T213000
SEQUENCE:37
END:VEVENT
BEGIN:VEVENT
UID:sabre-vobject-3622c603-df2d-4276-ab70-b4dc90b456a3
DTSTAMP:20260425T023006Z
SUMMARY:Basic Training for New Parents - ONLINE
DESCRIPTION:Learn what to expect as a new parent!\n
X-ALT-DESC:FMTTYPE=text/html:<!DOCTYPE HTML PUBLIC "-//W3C//DTD HTML 3.2//E
 N"><HTML><p>Learn what to expect as a new parent!</p>\n</HTML>
CREATED;TZID=Europe/Berlin:20250903T091332
URL;VALUE=URI:https://kaiserslautern.armymwr.com/view-event
DTSTART;TZID=Europe/Berlin:20250819T173000
DTEND;TZID=Europe/Berlin:20250819T213000
SEQUENCE:38
END:VEVENT
BEGIN:VEVENT
UID:sabre-vobject-24a50810-cd2b-433b-aff6-3f81d3dc4bae
DTSTAMP:20260425T023006Z
SUMMARY:Basic Training for New Parents - ONLINE
DESCRIPTION:Learn what to expect as a new parent!\n
X-ALT-DESC:FMTTYPE=text/html:<!DOCTYPE HTML PUBLIC "-//W3C//DTD HTML 3.2//E
 N"><HTML><p>Learn what to expect as a new parent!</p>\n</HTML>
CREATED;TZID=Europe/Berlin:20250903T091332
URL;VALUE=URI:https://kaiserslautern.armymwr.com/view-event
DTSTART;TZID=Europe/Berlin:20250916T173000
DTEND;TZID=Europe/Berlin:20250916T213000
SEQUENCE:39
END:VEVENT
END:VCALENDAR
