BEGIN:VCALENDAR
VERSION:2.0
PRODID:-//Sabre//Sabre VObject 4.5.8//EN
CALSCALE:GREGORIAN
BEGIN:VEVENT
UID:sabre-vobject-0ff0c482-e37e-454f-acff-fdbe4c77a8f7
DTSTAMP:20260419T121317Z
SUMMARY:Beer Fest
DESCRIPTION:Did you know there are over 20\,000 types of beer in the world?
 \n
X-ALT-DESC:FMTTYPE=text/html:<!DOCTYPE HTML PUBLIC "-//W3C//DTD HTML 3.2//E
 N"><HTML><p>Did you know there are over 20\,000 types of beer in the world
 ?</p>\n</HTML>
CREATED;TZID=Europe/Berlin:20170913T134249
URL;VALUE=URI:https://kaiserslautern.armymwr.com/view-event
DTSTART;TZID=Europe/Berlin:20170301T150000
DTEND;TZID=Europe/Berlin:20170301T220000
SEQUENCE:0
END:VEVENT
END:VCALENDAR
