BEGIN:VCALENDAR
VERSION:2.0
PRODID:-//Sabre//Sabre VObject 4.5.8//EN
CALSCALE:GREGORIAN
BEGIN:VEVENT
UID:sabre-vobject-889093bb-99e7-4a2d-a9c5-e4ff7556753c
DTSTAMP:20260425T005912Z
SUMMARY:Total Body Conditioning Landstuhl
DESCRIPTION:Burn more fat in less time!\n
X-ALT-DESC:FMTTYPE=text/html:<!DOCTYPE HTML PUBLIC "-//W3C//DTD HTML 3.2//E
 N"><HTML><p>Burn more fat in less time!</p>\n</HTML>
CREATED;TZID=Europe/Berlin:20200914T110412
URL;VALUE=URI:https://kaiserslautern.armymwr.com/view-event
DTSTART;TZID=Europe/Berlin:20200914T093000
DTEND;TZID=Europe/Berlin:20200914T103000
SEQUENCE:0
END:VEVENT
END:VCALENDAR
