BEGIN:VCALENDAR
VERSION:2.0
PRODID:-//Sabre//Sabre VObject 4.5.8//EN
CALSCALE:GREGORIAN
BEGIN:VEVENT
UID:sabre-vobject-a7dbd385-bb61-49f5-898f-3bdfb4fe6c7c
DTSTAMP:20260426T014636Z
SUMMARY:Brussels Christmas Market
DESCRIPTION:Dazzle your senses at the Winter Wonders Festival in Brussels\,
  Belgium!\n
X-ALT-DESC:FMTTYPE=text/html:<!DOCTYPE HTML PUBLIC "-//W3C//DTD HTML 3.2//E
 N"><HTML><p>Dazzle your senses at the Winter Wonders Festival in Brussels\
 , Belgium!</p>\n</HTML>
CREATED;TZID=Europe/Berlin:20221104T142506
URL;VALUE=URI:https://kaiserslautern.armymwr.com/view-event
DTSTART;TZID=Europe/Berlin:20221203T040000
DTEND;TZID=Europe/Berlin:20221203T050000
SEQUENCE:0
END:VEVENT
END:VCALENDAR
