BEGIN:VCALENDAR
VERSION:2.0
PRODID:-//Sabre//Sabre VObject 4.5.8//EN
CALSCALE:GREGORIAN
BEGIN:VEVENT
UID:sabre-vobject-f17d0369-f272-43a4-966b-281c0562f12d
DTSTAMP:20260420T024505Z
SUMMARY:London Express
DESCRIPTION:Have a jolly good time exploring merry olde London!\n
X-ALT-DESC:FMTTYPE=text/html:<!DOCTYPE HTML PUBLIC "-//W3C//DTD HTML 3.2//E
 N"><HTML><p>Have a <strong>jolly good time</strong> exploring merry olde <
 strong>London</strong>!</p>\n</HTML>
CREATED;TZID=Europe/Berlin:20220224T103659
URL;VALUE=URI:https://kaiserslautern.armymwr.com/view-event
DTSTART;TZID=Europe/Berlin:20220401T230000
DTEND;TZID=Europe/Berlin:20220403T120000
SEQUENCE:0
END:VEVENT
END:VCALENDAR
