BEGIN:VCALENDAR
VERSION:2.0
PRODID:-//Sabre//Sabre VObject 4.5.8//EN
CALSCALE:GREGORIAN
BEGIN:VEVENT
UID:sabre-vobject-04209549-0bea-46ef-8517-eb015a278274
DTSTAMP:20260425T040048Z
SUMMARY:Yoga Landstuhl 
DESCRIPTION:Mixed Level Yoga Landstuhl\n
X-ALT-DESC:FMTTYPE=text/html:<!DOCTYPE HTML PUBLIC "-//W3C//DTD HTML 3.2//E
 N"><HTML><p>Mixed Level Yoga Landstuhl</p>\n</HTML>
CREATED;TZID=Europe/Berlin:20200914T112328
URL;VALUE=URI:https://kaiserslautern.armymwr.com/view-event
DTSTART;TZID=Europe/Berlin:20200915T120000
DTEND;TZID=Europe/Berlin:20200915T130000
SEQUENCE:0
END:VEVENT
END:VCALENDAR
