BEGIN:VCALENDAR
VERSION:2.0
PRODID:-//Sabre//Sabre VObject 4.5.8//EN
CALSCALE:GREGORIAN
BEGIN:VEVENT
UID:sabre-vobject-a9e9153f-c528-436e-8697-7f9677d5694b
DTSTAMP:20260425T103731Z
SUMMARY:Interlaken Express
DESCRIPTION:Get your (adrenaline) freak on in Interlaken\, the Outdoor Recr
 eation capital of the world!\n
X-ALT-DESC:FMTTYPE=text/html:<!DOCTYPE HTML PUBLIC "-//W3C//DTD HTML 3.2//E
 N"><HTML><p>Get your (adrenaline) freak on in Interlaken\, the Outdoor Rec
 reation capital of the world!</p>\n</HTML>
CREATED;TZID=Europe/Berlin:20200805T120247
URL;VALUE=URI:https://kaiserslautern.armymwr.com/view-event
DTSTART;TZID=Europe/Berlin:20200829T020000
DTEND;TZID=Europe/Berlin:20200829T234500
SEQUENCE:0
END:VEVENT
BEGIN:VEVENT
UID:sabre-vobject-5f52e3bb-d502-4f83-a466-8e7ab94c8e97
DTSTAMP:20260425T103731Z
SUMMARY:Interlaken Express
DESCRIPTION:Get your (adrenaline) freak on in Interlaken\, the Outdoor Recr
 eation capital of the world!\n
X-ALT-DESC:FMTTYPE=text/html:<!DOCTYPE HTML PUBLIC "-//W3C//DTD HTML 3.2//E
 N"><HTML><p>Get your (adrenaline) freak on in Interlaken\, the Outdoor Rec
 reation capital of the world!</p>\n</HTML>
CREATED;TZID=Europe/Berlin:20200805T120247
URL;VALUE=URI:https://kaiserslautern.armymwr.com/view-event
DTSTART;TZID=Europe/Berlin:20200926T020000
DTEND;TZID=Europe/Berlin:20200926T030000
SEQUENCE:1
END:VEVENT
END:VCALENDAR
