BEGIN:VCALENDAR
VERSION:2.0
PRODID:-//Sabre//Sabre VObject 4.5.8//EN
CALSCALE:GREGORIAN
BEGIN:VEVENT
UID:sabre-vobject-141ad115-f4f4-4df9-a618-c38e39758674
DTSTAMP:20260419T121314Z
SUMMARY:AER Kickoff Breakfast
DESCRIPTION:Army Emergency Relief&nbsp\;Fundraising Campaign Kickoff Event\
 n
X-ALT-DESC:FMTTYPE=text/html:<!DOCTYPE HTML PUBLIC "-//W3C//DTD HTML 3.2//E
 N"><HTML><p>Army Emergency Relief&nbsp\;Fundraising Campaign Kickoff Event
 </p>\n</HTML>
CREATED;TZID=Europe/Berlin:20190204T132114
URL;VALUE=URI:https://kaiserslautern.armymwr.com/view-event
DTSTART;TZID=Europe/Berlin:20190226T073000
DTEND;TZID=Europe/Berlin:20190226T090000
SEQUENCE:0
END:VEVENT
END:VCALENDAR
