BEGIN:VCALENDAR
VERSION:2.0
PRODID:-//Sabre//Sabre VObject 4.5.8//EN
CALSCALE:GREGORIAN
BEGIN:VEVENT
UID:sabre-vobject-316bd6b5-6cd7-4fc9-a21f-ce1f71598b48
DTSTAMP:20260419T122022Z
SUMMARY:Fitness Challenge
DESCRIPTION:
X-ALT-DESC:FMTTYPE=text/html:<!DOCTYPE HTML PUBLIC "-//W3C//DTD HTML 3.2//E
 N"><HTML></HTML>
CREATED;TZID=Europe/Berlin:20190221T105509
URL;VALUE=URI:https://kaiserslautern.armymwr.com/view-event
DTSTART;TZID=Europe/Berlin:20190223T090000
DTEND;TZID=Europe/Berlin:20190223T120000
SEQUENCE:0
END:VEVENT
END:VCALENDAR
