BEGIN:VCALENDAR
VERSION:2.0
PRODID:-//Sabre//Sabre VObject 4.5.8//EN
CALSCALE:GREGORIAN
BEGIN:VEVENT
UID:sabre-vobject-88fd83b9-8da1-44ac-93cd-3db12aa4f8f2
DTSTAMP:20260419T122021Z
SUMMARY:Dr. Seuss Day
DESCRIPTION:&ldquo\;Oh the things you can find\, if you don&rsquo\;t stay b
 ehind!&rdquo\;&nbsp\; Enjoy many&nbsp\;activities with Seuss characters!\n
X-ALT-DESC:FMTTYPE=text/html:<!DOCTYPE HTML PUBLIC "-//W3C//DTD HTML 3.2//E
 N"><HTML><p>&ldquo\;Oh the things you can find\, if you don&rsquo\;t stay 
 behind!&rdquo\;&nbsp\; Enjoy many&nbsp\;activities with Seuss characters!<
 /p>\n</HTML>
CREATED;TZID=Europe/Berlin:20190208T160810
URL;VALUE=URI:https://kaiserslautern.armymwr.com/view-event
DTSTART;TZID=Europe/Berlin:20190302T100000
DTEND;TZID=Europe/Berlin:20190302T120000
SEQUENCE:0
END:VEVENT
END:VCALENDAR
