BEGIN:VCALENDAR
VERSION:2.0
PRODID:-//Sabre//Sabre VObject 4.5.8//EN
CALSCALE:GREGORIAN
BEGIN:VEVENT
UID:sabre-vobject-55135e00-5c05-41cb-b2be-e24a8c3b2e6f
DTSTAMP:20260419T132020Z
SUMMARY:Live Music - Room 4 Two
DESCRIPTION:
X-ALT-DESC:FMTTYPE=text/html:<!DOCTYPE HTML PUBLIC "-//W3C//DTD HTML 3.2//E
 N"><HTML></HTML>
CREATED;TZID=Europe/Berlin:20190128T150126
URL;VALUE=URI:https://kaiserslautern.armymwr.com/view-event
DTSTART;TZID=Europe/Berlin:20190223T200000
DTEND;TZID=Europe/Berlin:20190223T235500
SEQUENCE:0
END:VEVENT
END:VCALENDAR
