BEGIN:VCALENDAR
VERSION:2.0
PRODID:-//Sabre//Sabre VObject 4.5.8//EN
CALSCALE:GREGORIAN
BEGIN:VEVENT
UID:sabre-vobject-38de0fff-722a-4715-9a42-f6396ba43ffa
DTSTAMP:20260425T010322Z
SUMMARY:Power Yoga on Pulaski
DESCRIPTION:Improve your overall flexibility and well being!\n
X-ALT-DESC:FMTTYPE=text/html:<!DOCTYPE HTML PUBLIC "-//W3C//DTD HTML 3.2//E
 N"><HTML><p>Improve your overall flexibility and well being!</p>\n</HTML>
CREATED;TZID=Europe/Berlin:20200914T113305
URL;VALUE=URI:https://kaiserslautern.armymwr.com/view-event
DTSTART;TZID=Europe/Berlin:20200917T173000
DTEND;TZID=Europe/Berlin:20200917T183000
SEQUENCE:0
END:VEVENT
END:VCALENDAR
