BEGIN:VCALENDAR
VERSION:2.0
PRODID:-//Sabre//Sabre VObject 4.5.8//EN
CALSCALE:GREGORIAN
BEGIN:VEVENT
UID:sabre-vobject-40160923-9952-4aff-9de5-16db565b4439
DTSTAMP:20260424T065328Z
SUMMARY:Mixed Level Yoga Pulaski
DESCRIPTION:Mixed Level Yoga Pulaski\n
X-ALT-DESC:FMTTYPE=text/html:<!DOCTYPE HTML PUBLIC "-//W3C//DTD HTML 3.2//E
 N"><HTML><p>Mixed Level Yoga Pulaski</p>\n</HTML>
CREATED;TZID=Europe/Berlin:20201001T110507
URL;VALUE=URI:https://kaiserslautern.armymwr.com/view-event
DTSTART;TZID=Europe/Berlin:20201007T120000
DTEND;TZID=Europe/Berlin:20201007T130000
SEQUENCE:0
END:VEVENT
BEGIN:VEVENT
UID:sabre-vobject-93e8498c-f601-461b-8619-e4b836a8bc7f
DTSTAMP:20260424T065328Z
SUMMARY:Mixed Level Yoga Pulaski
DESCRIPTION:Mixed Level Yoga Pulaski\n
X-ALT-DESC:FMTTYPE=text/html:<!DOCTYPE HTML PUBLIC "-//W3C//DTD HTML 3.2//E
 N"><HTML><p>Mixed Level Yoga Pulaski</p>\n</HTML>
CREATED;TZID=Europe/Berlin:20201001T110507
URL;VALUE=URI:https://kaiserslautern.armymwr.com/view-event
DTSTART;TZID=Europe/Berlin:20201001T090000
DTEND;TZID=Europe/Berlin:20201001T100000
SEQUENCE:1
END:VEVENT
BEGIN:VEVENT
UID:sabre-vobject-d04aac92-5b0c-40d5-8f48-b8e43b10f3c8
DTSTAMP:20260424T065328Z
SUMMARY:Mixed Level Yoga Pulaski
DESCRIPTION:Mixed Level Yoga Pulaski\n
X-ALT-DESC:FMTTYPE=text/html:<!DOCTYPE HTML PUBLIC "-//W3C//DTD HTML 3.2//E
 N"><HTML><p>Mixed Level Yoga Pulaski</p>\n</HTML>
CREATED;TZID=Europe/Berlin:20201001T110507
URL;VALUE=URI:https://kaiserslautern.armymwr.com/view-event
DTSTART;TZID=Europe/Berlin:20201002T090000
DTEND;TZID=Europe/Berlin:20201002T100000
SEQUENCE:2
END:VEVENT
END:VCALENDAR
