BEGIN:VCALENDAR
VERSION:2.0
PRODID:-//Sabre//Sabre VObject 4.5.8//EN
CALSCALE:GREGORIAN
BEGIN:VEVENT
UID:sabre-vobject-71192a8e-4fef-49fa-8152-e63b310d43fd
DTSTAMP:20260425T235051Z
SUMMARY:ZUMBA! (Outdoor)
DESCRIPTION:High-energy exotic rhythms make burning calories fun!\n
X-ALT-DESC:FMTTYPE=text/html:<!DOCTYPE HTML PUBLIC "-//W3C//DTD HTML 3.2//E
 N"><HTML><p>High-energy exotic rhythms make burning calories fun!</p>\n</H
 TML>
CREATED;TZID=Europe/Berlin:20200731T173813
URL;VALUE=URI:https://kaiserslautern.armymwr.com/view-event
DTSTART;TZID=Europe/Berlin:20200604T173000
DTEND;TZID=Europe/Berlin:20200604T183000
SEQUENCE:0
END:VEVENT
BEGIN:VEVENT
UID:sabre-vobject-65ad28cb-90fd-4873-bacf-3605f9468db4
DTSTAMP:20260425T235051Z
SUMMARY:ZUMBA! (Outdoor)
DESCRIPTION:High-energy exotic rhythms make burning calories fun!\n
X-ALT-DESC:FMTTYPE=text/html:<!DOCTYPE HTML PUBLIC "-//W3C//DTD HTML 3.2//E
 N"><HTML><p>High-energy exotic rhythms make burning calories fun!</p>\n</H
 TML>
CREATED;TZID=Europe/Berlin:20200731T173813
URL;VALUE=URI:https://kaiserslautern.armymwr.com/view-event
DTSTART;TZID=Europe/Berlin:20200701T180000
DTEND;TZID=Europe/Berlin:20200701T190000
SEQUENCE:1
END:VEVENT
BEGIN:VEVENT
UID:sabre-vobject-5b9838fe-6af5-4160-bcbb-70d87857f3c4
DTSTAMP:20260425T235051Z
SUMMARY:ZUMBA! (Outdoor)
DESCRIPTION:High-energy exotic rhythms make burning calories fun!\n
X-ALT-DESC:FMTTYPE=text/html:<!DOCTYPE HTML PUBLIC "-//W3C//DTD HTML 3.2//E
 N"><HTML><p>High-energy exotic rhythms make burning calories fun!</p>\n</H
 TML>
CREATED;TZID=Europe/Berlin:20200731T173813
URL;VALUE=URI:https://kaiserslautern.armymwr.com/view-event
DTSTART;TZID=Europe/Berlin:20200803T180000
DTEND;TZID=Europe/Berlin:20200803T190000
SEQUENCE:2
END:VEVENT
END:VCALENDAR
