BEGIN:VCALENDAR
VERSION:2.0
PRODID:-//Sabre//Sabre VObject 4.5.8//EN
CALSCALE:GREGORIAN
BEGIN:VEVENT
UID:sabre-vobject-10190104-5626-492f-997c-eceeb5506bd6
DTSTAMP:20260421T004427Z
SUMMARY:Host Nation Orientation - LIVE stream
DESCRIPTION:Get familiar with your new Host Nation with this informational 
 session!&nbsp\;\n
X-ALT-DESC:FMTTYPE=text/html:<!DOCTYPE HTML PUBLIC "-//W3C//DTD HTML 3.2//E
 N"><HTML><p>Get familiar with your new Host Nation with this informational
  session!&nbsp\;</p>\n</HTML>
CREATED;TZID=Europe/Berlin:20201020T114631
URL;VALUE=URI:https://kaiserslautern.armymwr.com/view-event
DTSTART;TZID=Europe/Berlin:20200619T090000
DTEND;TZID=Europe/Berlin:20200619T110000
SEQUENCE:0
END:VEVENT
BEGIN:VEVENT
UID:sabre-vobject-1870ccb5-96fe-4071-89da-cabaf46a594d
DTSTAMP:20260421T004427Z
SUMMARY:Host Nation Orientation - LIVE stream
DESCRIPTION:Get familiar with your new Host Nation with this informational 
 session!&nbsp\;\n
X-ALT-DESC:FMTTYPE=text/html:<!DOCTYPE HTML PUBLIC "-//W3C//DTD HTML 3.2//E
 N"><HTML><p>Get familiar with your new Host Nation with this informational
  session!&nbsp\;</p>\n</HTML>
CREATED;TZID=Europe/Berlin:20201020T114631
URL;VALUE=URI:https://kaiserslautern.armymwr.com/view-event
DTSTART;TZID=Europe/Berlin:20200710T090000
DTEND;TZID=Europe/Berlin:20200710T110000
SEQUENCE:1
END:VEVENT
BEGIN:VEVENT
UID:sabre-vobject-c7effafa-8845-485e-a896-7a4a8a2f5380
DTSTAMP:20260421T004427Z
SUMMARY:Host Nation Orientation - LIVE stream
DESCRIPTION:Get familiar with your new Host Nation with this informational 
 session!&nbsp\;\n
X-ALT-DESC:FMTTYPE=text/html:<!DOCTYPE HTML PUBLIC "-//W3C//DTD HTML 3.2//E
 N"><HTML><p>Get familiar with your new Host Nation with this informational
  session!&nbsp\;</p>\n</HTML>
CREATED;TZID=Europe/Berlin:20201020T114631
URL;VALUE=URI:https://kaiserslautern.armymwr.com/view-event
DTSTART;TZID=Europe/Berlin:20200821T090000
DTEND;TZID=Europe/Berlin:20200821T110000
SEQUENCE:2
END:VEVENT
BEGIN:VEVENT
UID:sabre-vobject-88135640-c405-458a-9549-67059fa339fb
DTSTAMP:20260421T004427Z
SUMMARY:Host Nation Orientation - LIVE stream
DESCRIPTION:Get familiar with your new Host Nation with this informational 
 session!&nbsp\;\n
X-ALT-DESC:FMTTYPE=text/html:<!DOCTYPE HTML PUBLIC "-//W3C//DTD HTML 3.2//E
 N"><HTML><p>Get familiar with your new Host Nation with this informational
  session!&nbsp\;</p>\n</HTML>
CREATED;TZID=Europe/Berlin:20201020T114631
URL;VALUE=URI:https://kaiserslautern.armymwr.com/view-event
DTSTART;TZID=Europe/Berlin:20200911T090000
DTEND;TZID=Europe/Berlin:20200911T110000
SEQUENCE:3
END:VEVENT
BEGIN:VEVENT
UID:sabre-vobject-51d3312e-989c-4603-a30f-4bfbe982e836
DTSTAMP:20260421T004427Z
SUMMARY:Host Nation Orientation - LIVE stream
DESCRIPTION:Get familiar with your new Host Nation with this informational 
 session!&nbsp\;\n
X-ALT-DESC:FMTTYPE=text/html:<!DOCTYPE HTML PUBLIC "-//W3C//DTD HTML 3.2//E
 N"><HTML><p>Get familiar with your new Host Nation with this informational
  session!&nbsp\;</p>\n</HTML>
CREATED;TZID=Europe/Berlin:20201020T114631
URL;VALUE=URI:https://kaiserslautern.armymwr.com/view-event
DTSTART;TZID=Europe/Berlin:20201002T090000
DTEND;TZID=Europe/Berlin:20201002T110000
SEQUENCE:4
END:VEVENT
BEGIN:VEVENT
UID:sabre-vobject-ab52b52e-dc12-4db6-b1eb-aefea47911d8
DTSTAMP:20260421T004427Z
SUMMARY:Host Nation Orientation - LIVE stream
DESCRIPTION:Get familiar with your new Host Nation with this informational 
 session!&nbsp\;\n
X-ALT-DESC:FMTTYPE=text/html:<!DOCTYPE HTML PUBLIC "-//W3C//DTD HTML 3.2//E
 N"><HTML><p>Get familiar with your new Host Nation with this informational
  session!&nbsp\;</p>\n</HTML>
CREATED;TZID=Europe/Berlin:20201020T114631
URL;VALUE=URI:https://kaiserslautern.armymwr.com/view-event
DTSTART;TZID=Europe/Berlin:20201016T090000
DTEND;TZID=Europe/Berlin:20201016T110000
SEQUENCE:5
END:VEVENT
BEGIN:VEVENT
UID:sabre-vobject-cd84c8e5-b9cb-4e28-b19a-da9c077473c8
DTSTAMP:20260421T004427Z
SUMMARY:Host Nation Orientation - LIVE stream
DESCRIPTION:Get familiar with your new Host Nation with this informational 
 session!&nbsp\;\n
X-ALT-DESC:FMTTYPE=text/html:<!DOCTYPE HTML PUBLIC "-//W3C//DTD HTML 3.2//E
 N"><HTML><p>Get familiar with your new Host Nation with this informational
  session!&nbsp\;</p>\n</HTML>
CREATED;TZID=Europe/Berlin:20201020T114631
URL;VALUE=URI:https://kaiserslautern.armymwr.com/view-event
DTSTART;TZID=Europe/Berlin:20201030T090000
DTEND;TZID=Europe/Berlin:20201030T110000
SEQUENCE:6
END:VEVENT
BEGIN:VEVENT
UID:sabre-vobject-c8954df4-3f72-4536-b78a-0aa15f0ed015
DTSTAMP:20260421T004427Z
SUMMARY:Host Nation Orientation - LIVE stream
DESCRIPTION:Get familiar with your new Host Nation with this informational 
 session!&nbsp\;\n
X-ALT-DESC:FMTTYPE=text/html:<!DOCTYPE HTML PUBLIC "-//W3C//DTD HTML 3.2//E
 N"><HTML><p>Get familiar with your new Host Nation with this informational
  session!&nbsp\;</p>\n</HTML>
CREATED;TZID=Europe/Berlin:20201020T114631
URL;VALUE=URI:https://kaiserslautern.armymwr.com/view-event
DTSTART;TZID=Europe/Berlin:20201106T130000
DTEND;TZID=Europe/Berlin:20201106T150000
SEQUENCE:7
END:VEVENT
END:VCALENDAR
