BEGIN:VCALENDAR
VERSION:2.0
PRODID:-//Sabre//Sabre VObject 4.5.8//EN
CALSCALE:GREGORIAN
BEGIN:VEVENT
UID:sabre-vobject-09e83487-ffb9-41f5-bb6e-604184011a95
DTSTAMP:20260420T160533Z
SUMMARY:Better Resume Class - LIVE stream
DESCRIPTION:Are you looking for a job in the private sector? Let ACS help y
 ou in your career search!\n
X-ALT-DESC:FMTTYPE=text/html:<!DOCTYPE HTML PUBLIC "-//W3C//DTD HTML 3.2//E
 N"><HTML><p>Are you looking for a job in the private sector? Let ACS help 
 you in your career search!</p>\n</HTML>
CREATED;TZID=Europe/Berlin:20210706T103908
URL;VALUE=URI:https://kaiserslautern.armymwr.com/view-event
DTSTART;TZID=Europe/Berlin:20200623T100000
DTEND;TZID=Europe/Berlin:20200623T110000
SEQUENCE:0
END:VEVENT
BEGIN:VEVENT
UID:sabre-vobject-ecdffaf4-bea6-4e3f-aca8-2f08a0161d0b
DTSTAMP:20260420T160533Z
SUMMARY:Better Resume Class - LIVE stream
DESCRIPTION:Are you looking for a job in the private sector? Let ACS help y
 ou in your career search!\n
X-ALT-DESC:FMTTYPE=text/html:<!DOCTYPE HTML PUBLIC "-//W3C//DTD HTML 3.2//E
 N"><HTML><p>Are you looking for a job in the private sector? Let ACS help 
 you in your career search!</p>\n</HTML>
CREATED;TZID=Europe/Berlin:20210706T103908
URL;VALUE=URI:https://kaiserslautern.armymwr.com/view-event
DTSTART;TZID=Europe/Berlin:20200707T100000
DTEND;TZID=Europe/Berlin:20200707T110000
SEQUENCE:1
END:VEVENT
BEGIN:VEVENT
UID:sabre-vobject-7c6a0808-439c-4d70-af7f-2d6a6cc39e94
DTSTAMP:20260420T160533Z
SUMMARY:Better Resume Class - LIVE stream
DESCRIPTION:Are you looking for a job in the private sector? Let ACS help y
 ou in your career search!\n
X-ALT-DESC:FMTTYPE=text/html:<!DOCTYPE HTML PUBLIC "-//W3C//DTD HTML 3.2//E
 N"><HTML><p>Are you looking for a job in the private sector? Let ACS help 
 you in your career search!</p>\n</HTML>
CREATED;TZID=Europe/Berlin:20210706T103908
URL;VALUE=URI:https://kaiserslautern.armymwr.com/view-event
DTSTART;TZID=Europe/Berlin:20200722T140000
DTEND;TZID=Europe/Berlin:20200722T150000
SEQUENCE:2
END:VEVENT
BEGIN:VEVENT
UID:sabre-vobject-774ac288-bb17-4578-af1d-25a21a9b6fa1
DTSTAMP:20260420T160533Z
SUMMARY:Better Resume Class - LIVE stream
DESCRIPTION:Are you looking for a job in the private sector? Let ACS help y
 ou in your career search!\n
X-ALT-DESC:FMTTYPE=text/html:<!DOCTYPE HTML PUBLIC "-//W3C//DTD HTML 3.2//E
 N"><HTML><p>Are you looking for a job in the private sector? Let ACS help 
 you in your career search!</p>\n</HTML>
CREATED;TZID=Europe/Berlin:20210706T103908
URL;VALUE=URI:https://kaiserslautern.armymwr.com/view-event
DTSTART;TZID=Europe/Berlin:20200819T100000
DTEND;TZID=Europe/Berlin:20200819T110000
SEQUENCE:3
END:VEVENT
BEGIN:VEVENT
UID:sabre-vobject-4db0bcd3-04a3-4a9c-93cb-722130596678
DTSTAMP:20260420T160533Z
SUMMARY:Better Resume Class - LIVE stream
DESCRIPTION:Are you looking for a job in the private sector? Let ACS help y
 ou in your career search!\n
X-ALT-DESC:FMTTYPE=text/html:<!DOCTYPE HTML PUBLIC "-//W3C//DTD HTML 3.2//E
 N"><HTML><p>Are you looking for a job in the private sector? Let ACS help 
 you in your career search!</p>\n</HTML>
CREATED;TZID=Europe/Berlin:20210706T103908
URL;VALUE=URI:https://kaiserslautern.armymwr.com/view-event
DTSTART;TZID=Europe/Berlin:20200916T100000
DTEND;TZID=Europe/Berlin:20200916T110000
SEQUENCE:4
END:VEVENT
BEGIN:VEVENT
UID:sabre-vobject-89f25cc0-576f-4312-9cbc-a3d95d546429
DTSTAMP:20260420T160533Z
SUMMARY:Better Resume Class - LIVE stream
DESCRIPTION:Are you looking for a job in the private sector? Let ACS help y
 ou in your career search!\n
X-ALT-DESC:FMTTYPE=text/html:<!DOCTYPE HTML PUBLIC "-//W3C//DTD HTML 3.2//E
 N"><HTML><p>Are you looking for a job in the private sector? Let ACS help 
 you in your career search!</p>\n</HTML>
CREATED;TZID=Europe/Berlin:20210706T103908
URL;VALUE=URI:https://kaiserslautern.armymwr.com/view-event
DTSTART;TZID=Europe/Berlin:20201014T100000
DTEND;TZID=Europe/Berlin:20201014T110000
SEQUENCE:5
END:VEVENT
BEGIN:VEVENT
UID:sabre-vobject-87914bea-dca3-49b0-b115-12feebf09d43
DTSTAMP:20260420T160533Z
SUMMARY:Better Resume Class - LIVE stream
DESCRIPTION:Are you looking for a job in the private sector? Let ACS help y
 ou in your career search!\n
X-ALT-DESC:FMTTYPE=text/html:<!DOCTYPE HTML PUBLIC "-//W3C//DTD HTML 3.2//E
 N"><HTML><p>Are you looking for a job in the private sector? Let ACS help 
 you in your career search!</p>\n</HTML>
CREATED;TZID=Europe/Berlin:20210706T103908
URL;VALUE=URI:https://kaiserslautern.armymwr.com/view-event
DTSTART;TZID=Europe/Berlin:20201118T100000
DTEND;TZID=Europe/Berlin:20201118T110000
SEQUENCE:6
END:VEVENT
BEGIN:VEVENT
UID:sabre-vobject-e1e54aa6-fc8e-44c8-a2f2-fa2a93de7689
DTSTAMP:20260420T160533Z
SUMMARY:Better Resume Class - LIVE stream
DESCRIPTION:Are you looking for a job in the private sector? Let ACS help y
 ou in your career search!\n
X-ALT-DESC:FMTTYPE=text/html:<!DOCTYPE HTML PUBLIC "-//W3C//DTD HTML 3.2//E
 N"><HTML><p>Are you looking for a job in the private sector? Let ACS help 
 you in your career search!</p>\n</HTML>
CREATED;TZID=Europe/Berlin:20210706T103908
URL;VALUE=URI:https://kaiserslautern.armymwr.com/view-event
DTSTART;TZID=Europe/Berlin:20201209T100000
DTEND;TZID=Europe/Berlin:20201209T110000
SEQUENCE:7
END:VEVENT
BEGIN:VEVENT
UID:sabre-vobject-e782a68c-094e-4173-a5a0-faaff0eb2f77
DTSTAMP:20260420T160533Z
SUMMARY:Better Resume Class - LIVE stream
DESCRIPTION:Are you looking for a job in the private sector? Let ACS help y
 ou in your career search!\n
X-ALT-DESC:FMTTYPE=text/html:<!DOCTYPE HTML PUBLIC "-//W3C//DTD HTML 3.2//E
 N"><HTML><p>Are you looking for a job in the private sector? Let ACS help 
 you in your career search!</p>\n</HTML>
CREATED;TZID=Europe/Berlin:20210706T103908
URL;VALUE=URI:https://kaiserslautern.armymwr.com/view-event
DTSTART;TZID=Europe/Berlin:20210105T100000
DTEND;TZID=Europe/Berlin:20210105T110000
SEQUENCE:8
END:VEVENT
BEGIN:VEVENT
UID:sabre-vobject-4f3c2412-e281-4cee-b05b-d6b145022e35
DTSTAMP:20260420T160533Z
SUMMARY:Better Resume Class - LIVE stream
DESCRIPTION:Are you looking for a job in the private sector? Let ACS help y
 ou in your career search!\n
X-ALT-DESC:FMTTYPE=text/html:<!DOCTYPE HTML PUBLIC "-//W3C//DTD HTML 3.2//E
 N"><HTML><p>Are you looking for a job in the private sector? Let ACS help 
 you in your career search!</p>\n</HTML>
CREATED;TZID=Europe/Berlin:20210706T103908
URL;VALUE=URI:https://kaiserslautern.armymwr.com/view-event
DTSTART;TZID=Europe/Berlin:20210202T100000
DTEND;TZID=Europe/Berlin:20210202T110000
SEQUENCE:9
END:VEVENT
BEGIN:VEVENT
UID:sabre-vobject-a9fd3af1-adf9-4b79-8f83-fa40e535538f
DTSTAMP:20260420T160533Z
SUMMARY:Better Resume Class - LIVE stream
DESCRIPTION:Are you looking for a job in the private sector? Let ACS help y
 ou in your career search!\n
X-ALT-DESC:FMTTYPE=text/html:<!DOCTYPE HTML PUBLIC "-//W3C//DTD HTML 3.2//E
 N"><HTML><p>Are you looking for a job in the private sector? Let ACS help 
 you in your career search!</p>\n</HTML>
CREATED;TZID=Europe/Berlin:20210706T103908
URL;VALUE=URI:https://kaiserslautern.armymwr.com/view-event
DTSTART;TZID=Europe/Berlin:20210316T100000
DTEND;TZID=Europe/Berlin:20210316T110000
SEQUENCE:10
END:VEVENT
BEGIN:VEVENT
UID:sabre-vobject-84ccb539-5e84-4285-8d90-3160a78ca30a
DTSTAMP:20260420T160533Z
SUMMARY:Better Resume Class - LIVE stream
DESCRIPTION:Are you looking for a job in the private sector? Let ACS help y
 ou in your career search!\n
X-ALT-DESC:FMTTYPE=text/html:<!DOCTYPE HTML PUBLIC "-//W3C//DTD HTML 3.2//E
 N"><HTML><p>Are you looking for a job in the private sector? Let ACS help 
 you in your career search!</p>\n</HTML>
CREATED;TZID=Europe/Berlin:20210706T103908
URL;VALUE=URI:https://kaiserslautern.armymwr.com/view-event
DTSTART;TZID=Europe/Berlin:20210413T100000
DTEND;TZID=Europe/Berlin:20210413T110000
SEQUENCE:11
END:VEVENT
BEGIN:VEVENT
UID:sabre-vobject-cf1320b6-5c02-4ecc-8cdf-d067bc6e999f
DTSTAMP:20260420T160533Z
SUMMARY:Better Resume Class - LIVE stream
DESCRIPTION:Are you looking for a job in the private sector? Let ACS help y
 ou in your career search!\n
X-ALT-DESC:FMTTYPE=text/html:<!DOCTYPE HTML PUBLIC "-//W3C//DTD HTML 3.2//E
 N"><HTML><p>Are you looking for a job in the private sector? Let ACS help 
 you in your career search!</p>\n</HTML>
CREATED;TZID=Europe/Berlin:20210706T103908
URL;VALUE=URI:https://kaiserslautern.armymwr.com/view-event
DTSTART;TZID=Europe/Berlin:20210504T100000
DTEND;TZID=Europe/Berlin:20210504T110000
SEQUENCE:12
END:VEVENT
BEGIN:VEVENT
UID:sabre-vobject-04101cb8-04be-47b0-ba02-78eb77b1e279
DTSTAMP:20260420T160533Z
SUMMARY:Better Resume Class - LIVE stream
DESCRIPTION:Are you looking for a job in the private sector? Let ACS help y
 ou in your career search!\n
X-ALT-DESC:FMTTYPE=text/html:<!DOCTYPE HTML PUBLIC "-//W3C//DTD HTML 3.2//E
 N"><HTML><p>Are you looking for a job in the private sector? Let ACS help 
 you in your career search!</p>\n</HTML>
CREATED;TZID=Europe/Berlin:20210706T103908
URL;VALUE=URI:https://kaiserslautern.armymwr.com/view-event
DTSTART;TZID=Europe/Berlin:20210608T100000
DTEND;TZID=Europe/Berlin:20210608T110000
SEQUENCE:13
END:VEVENT
BEGIN:VEVENT
UID:sabre-vobject-10805a62-2f52-46d3-b81a-5f4dcde72010
DTSTAMP:20260420T160533Z
SUMMARY:Better Resume Class - LIVE stream
DESCRIPTION:Are you looking for a job in the private sector? Let ACS help y
 ou in your career search!\n
X-ALT-DESC:FMTTYPE=text/html:<!DOCTYPE HTML PUBLIC "-//W3C//DTD HTML 3.2//E
 N"><HTML><p>Are you looking for a job in the private sector? Let ACS help 
 you in your career search!</p>\n</HTML>
CREATED;TZID=Europe/Berlin:20210706T103908
URL;VALUE=URI:https://kaiserslautern.armymwr.com/view-event
DTSTART;TZID=Europe/Berlin:20210713T100000
DTEND;TZID=Europe/Berlin:20210713T110000
SEQUENCE:14
END:VEVENT
END:VCALENDAR
