BEGIN:VCALENDAR
VERSION:2.0
PRODID:-//Sabre//Sabre VObject 4.5.8//EN
CALSCALE:GREGORIAN
BEGIN:VEVENT
UID:sabre-vobject-bf07ee86-af32-4b2c-a1c8-faa2d9418661
DTSTAMP:20260420T034904Z
SUMMARY:Emergency Placement Care (EPC) Informational Meeting 
DESCRIPTION:Help a family in need!\n
X-ALT-DESC:FMTTYPE=text/html:<!DOCTYPE HTML PUBLIC "-//W3C//DTD HTML 3.2//E
 N"><HTML><p>Help a family in need!</p>\n</HTML>
CREATED;TZID=Europe/Berlin:20210722T154824
URL;VALUE=URI:https://kaiserslautern.armymwr.com/view-event
DTSTART;TZID=Europe/Berlin:20200826T130000
DTEND;TZID=Europe/Berlin:20200826T140000
SEQUENCE:0
END:VEVENT
BEGIN:VEVENT
UID:sabre-vobject-bbef9006-2f4b-403a-a9d6-e6c9d4381c62
DTSTAMP:20260420T034904Z
SUMMARY:Emergency Placement Care (EPC) Informational Meeting 
DESCRIPTION:Help a family in need!\n
X-ALT-DESC:FMTTYPE=text/html:<!DOCTYPE HTML PUBLIC "-//W3C//DTD HTML 3.2//E
 N"><HTML><p>Help a family in need!</p>\n</HTML>
CREATED;TZID=Europe/Berlin:20210722T154824
URL;VALUE=URI:https://kaiserslautern.armymwr.com/view-event
DTSTART;TZID=Europe/Berlin:20201028T130000
DTEND;TZID=Europe/Berlin:20201028T140000
SEQUENCE:1
END:VEVENT
BEGIN:VEVENT
UID:sabre-vobject-8e193b0d-b15d-41b1-8a85-6b6bb683f335
DTSTAMP:20260420T034904Z
SUMMARY:Emergency Placement Care (EPC) Informational Meeting 
DESCRIPTION:Help a family in need!\n
X-ALT-DESC:FMTTYPE=text/html:<!DOCTYPE HTML PUBLIC "-//W3C//DTD HTML 3.2//E
 N"><HTML><p>Help a family in need!</p>\n</HTML>
CREATED;TZID=Europe/Berlin:20210722T154824
URL;VALUE=URI:https://kaiserslautern.armymwr.com/view-event
DTSTART;TZID=Europe/Berlin:20201125T130000
DTEND;TZID=Europe/Berlin:20201125T140000
SEQUENCE:2
END:VEVENT
BEGIN:VEVENT
UID:sabre-vobject-321c7f79-a46a-4ef4-85e2-57a74ab7f057
DTSTAMP:20260420T034904Z
SUMMARY:Emergency Placement Care (EPC) Informational Meeting 
DESCRIPTION:Help a family in need!\n
X-ALT-DESC:FMTTYPE=text/html:<!DOCTYPE HTML PUBLIC "-//W3C//DTD HTML 3.2//E
 N"><HTML><p>Help a family in need!</p>\n</HTML>
CREATED;TZID=Europe/Berlin:20210722T154824
URL;VALUE=URI:https://kaiserslautern.armymwr.com/view-event
DTSTART;TZID=Europe/Berlin:20210714T130000
DTEND;TZID=Europe/Berlin:20210714T140000
SEQUENCE:3
END:VEVENT
BEGIN:VEVENT
UID:sabre-vobject-a71b5152-dcc0-408a-be50-47d5f4225d80
DTSTAMP:20260420T034904Z
SUMMARY:Emergency Placement Care (EPC) Informational Meeting 
DESCRIPTION:Help a family in need!\n
X-ALT-DESC:FMTTYPE=text/html:<!DOCTYPE HTML PUBLIC "-//W3C//DTD HTML 3.2//E
 N"><HTML><p>Help a family in need!</p>\n</HTML>
CREATED;TZID=Europe/Berlin:20210722T154824
URL;VALUE=URI:https://kaiserslautern.armymwr.com/view-event
DTSTART;TZID=Europe/Berlin:20210721T130000
DTEND;TZID=Europe/Berlin:20210721T140000
SEQUENCE:4
END:VEVENT
BEGIN:VEVENT
UID:sabre-vobject-2330d948-8f83-4bca-99b6-9fabfbcb3a2d
DTSTAMP:20260420T034904Z
SUMMARY:Emergency Placement Care (EPC) Informational Meeting 
DESCRIPTION:Help a family in need!\n
X-ALT-DESC:FMTTYPE=text/html:<!DOCTYPE HTML PUBLIC "-//W3C//DTD HTML 3.2//E
 N"><HTML><p>Help a family in need!</p>\n</HTML>
CREATED;TZID=Europe/Berlin:20210722T154824
URL;VALUE=URI:https://kaiserslautern.armymwr.com/view-event
DTSTART;TZID=Europe/Berlin:20210818T130000
DTEND;TZID=Europe/Berlin:20210818T140000
SEQUENCE:5
END:VEVENT
END:VCALENDAR
