BEGIN:VCALENDAR
VERSION:2.0
PRODID:-//Sabre//Sabre VObject 4.5.8//EN
CALSCALE:GREGORIAN
BEGIN:VEVENT
UID:sabre-vobject-ee3323ff-dbde-4842-97d4-0333d9970d7e
DTSTAMP:20260420T000524Z
SUMMARY:Basic Training for New Parents - LIVE Stream 
DESCRIPTION:Learn what to expect as a new parent!&nbsp\;\n
X-ALT-DESC:FMTTYPE=text/html:<!DOCTYPE HTML PUBLIC "-//W3C//DTD HTML 3.2//E
 N"><HTML><p>Learn what to expect as a new parent!&nbsp\;</p>\n</HTML>
CREATED;TZID=Europe/Berlin:20210518T083243
URL;VALUE=URI:https://kaiserslautern.armymwr.com/view-event
DTSTART;TZID=Europe/Berlin:20200804T083000
DTEND;TZID=Europe/Berlin:20200804T123000
SEQUENCE:0
END:VEVENT
BEGIN:VEVENT
UID:sabre-vobject-a91c3c63-03f0-4f60-a29b-a5e4995b3816
DTSTAMP:20260420T000524Z
SUMMARY:Basic Training for New Parents - LIVE Stream 
DESCRIPTION:Learn what to expect as a new parent!&nbsp\;\n
X-ALT-DESC:FMTTYPE=text/html:<!DOCTYPE HTML PUBLIC "-//W3C//DTD HTML 3.2//E
 N"><HTML><p>Learn what to expect as a new parent!&nbsp\;</p>\n</HTML>
CREATED;TZID=Europe/Berlin:20210518T083243
URL;VALUE=URI:https://kaiserslautern.armymwr.com/view-event
DTSTART;TZID=Europe/Berlin:20200812T083000
DTEND;TZID=Europe/Berlin:20200812T123000
SEQUENCE:1
END:VEVENT
BEGIN:VEVENT
UID:sabre-vobject-c2c6d12b-cba7-48c2-8a57-870ec6bc98c1
DTSTAMP:20260420T000524Z
SUMMARY:Basic Training for New Parents - LIVE Stream 
DESCRIPTION:Learn what to expect as a new parent!&nbsp\;\n
X-ALT-DESC:FMTTYPE=text/html:<!DOCTYPE HTML PUBLIC "-//W3C//DTD HTML 3.2//E
 N"><HTML><p>Learn what to expect as a new parent!&nbsp\;</p>\n</HTML>
CREATED;TZID=Europe/Berlin:20210518T083243
URL;VALUE=URI:https://kaiserslautern.armymwr.com/view-event
DTSTART;TZID=Europe/Berlin:20200901T123000
DTEND;TZID=Europe/Berlin:20200901T163000
SEQUENCE:2
END:VEVENT
BEGIN:VEVENT
UID:sabre-vobject-1101e0c0-4357-4520-b490-2cfaa2cbaae8
DTSTAMP:20260420T000524Z
SUMMARY:Basic Training for New Parents - LIVE Stream 
DESCRIPTION:Learn what to expect as a new parent!&nbsp\;\n
X-ALT-DESC:FMTTYPE=text/html:<!DOCTYPE HTML PUBLIC "-//W3C//DTD HTML 3.2//E
 N"><HTML><p>Learn what to expect as a new parent!&nbsp\;</p>\n</HTML>
CREATED;TZID=Europe/Berlin:20210518T083243
URL;VALUE=URI:https://kaiserslautern.armymwr.com/view-event
DTSTART;TZID=Europe/Berlin:20200909T123000
DTEND;TZID=Europe/Berlin:20200909T163000
SEQUENCE:3
END:VEVENT
BEGIN:VEVENT
UID:sabre-vobject-95b8b1b9-f4cc-4037-a8eb-65803550edaf
DTSTAMP:20260420T000524Z
SUMMARY:Basic Training for New Parents - LIVE Stream 
DESCRIPTION:Learn what to expect as a new parent!&nbsp\;\n
X-ALT-DESC:FMTTYPE=text/html:<!DOCTYPE HTML PUBLIC "-//W3C//DTD HTML 3.2//E
 N"><HTML><p>Learn what to expect as a new parent!&nbsp\;</p>\n</HTML>
CREATED;TZID=Europe/Berlin:20210518T083243
URL;VALUE=URI:https://kaiserslautern.armymwr.com/view-event
DTSTART;TZID=Europe/Berlin:20201006T123000
DTEND;TZID=Europe/Berlin:20201006T163000
SEQUENCE:4
END:VEVENT
BEGIN:VEVENT
UID:sabre-vobject-6340d3f0-2277-4e18-bcee-78a5342200fd
DTSTAMP:20260420T000524Z
SUMMARY:Basic Training for New Parents - LIVE Stream 
DESCRIPTION:Learn what to expect as a new parent!&nbsp\;\n
X-ALT-DESC:FMTTYPE=text/html:<!DOCTYPE HTML PUBLIC "-//W3C//DTD HTML 3.2//E
 N"><HTML><p>Learn what to expect as a new parent!&nbsp\;</p>\n</HTML>
CREATED;TZID=Europe/Berlin:20210518T083243
URL;VALUE=URI:https://kaiserslautern.armymwr.com/view-event
DTSTART;TZID=Europe/Berlin:20201014T123000
DTEND;TZID=Europe/Berlin:20201014T163000
SEQUENCE:5
END:VEVENT
BEGIN:VEVENT
UID:sabre-vobject-02689e88-fdc9-4fef-ab6f-38f2694977dd
DTSTAMP:20260420T000524Z
SUMMARY:Basic Training for New Parents - LIVE Stream 
DESCRIPTION:Learn what to expect as a new parent!&nbsp\;\n
X-ALT-DESC:FMTTYPE=text/html:<!DOCTYPE HTML PUBLIC "-//W3C//DTD HTML 3.2//E
 N"><HTML><p>Learn what to expect as a new parent!&nbsp\;</p>\n</HTML>
CREATED;TZID=Europe/Berlin:20210518T083243
URL;VALUE=URI:https://kaiserslautern.armymwr.com/view-event
DTSTART;TZID=Europe/Berlin:20201112T123000
DTEND;TZID=Europe/Berlin:20201112T163000
SEQUENCE:6
END:VEVENT
BEGIN:VEVENT
UID:sabre-vobject-d2b77c42-6419-4dca-98d0-a927f37d699e
DTSTAMP:20260420T000524Z
SUMMARY:Basic Training for New Parents - LIVE Stream 
DESCRIPTION:Learn what to expect as a new parent!&nbsp\;\n
X-ALT-DESC:FMTTYPE=text/html:<!DOCTYPE HTML PUBLIC "-//W3C//DTD HTML 3.2//E
 N"><HTML><p>Learn what to expect as a new parent!&nbsp\;</p>\n</HTML>
CREATED;TZID=Europe/Berlin:20210518T083243
URL;VALUE=URI:https://kaiserslautern.armymwr.com/view-event
DTSTART;TZID=Europe/Berlin:20201201T123000
DTEND;TZID=Europe/Berlin:20201201T163000
SEQUENCE:7
END:VEVENT
BEGIN:VEVENT
UID:sabre-vobject-b1c1af73-3e1e-4b8b-a685-7ab707e2bb3e
DTSTAMP:20260420T000524Z
SUMMARY:Basic Training for New Parents - LIVE Stream 
DESCRIPTION:Learn what to expect as a new parent!&nbsp\;\n
X-ALT-DESC:FMTTYPE=text/html:<!DOCTYPE HTML PUBLIC "-//W3C//DTD HTML 3.2//E
 N"><HTML><p>Learn what to expect as a new parent!&nbsp\;</p>\n</HTML>
CREATED;TZID=Europe/Berlin:20210518T083243
URL;VALUE=URI:https://kaiserslautern.armymwr.com/view-event
DTSTART;TZID=Europe/Berlin:20201209T123000
DTEND;TZID=Europe/Berlin:20201209T163000
SEQUENCE:8
END:VEVENT
BEGIN:VEVENT
UID:sabre-vobject-e413ba1d-0307-4272-b90a-dd5e2469b8a6
DTSTAMP:20260420T000524Z
SUMMARY:Basic Training for New Parents - LIVE Stream 
DESCRIPTION:Learn what to expect as a new parent!&nbsp\;\n
X-ALT-DESC:FMTTYPE=text/html:<!DOCTYPE HTML PUBLIC "-//W3C//DTD HTML 3.2//E
 N"><HTML><p>Learn what to expect as a new parent!&nbsp\;</p>\n</HTML>
CREATED;TZID=Europe/Berlin:20210518T083243
URL;VALUE=URI:https://kaiserslautern.armymwr.com/view-event
DTSTART;TZID=Europe/Berlin:20210105T123000
DTEND;TZID=Europe/Berlin:20210105T163000
SEQUENCE:9
END:VEVENT
BEGIN:VEVENT
UID:sabre-vobject-06799d0b-6533-48c7-acb9-05576bd22ba9
DTSTAMP:20260420T000524Z
SUMMARY:Basic Training for New Parents - LIVE Stream 
DESCRIPTION:Learn what to expect as a new parent!&nbsp\;\n
X-ALT-DESC:FMTTYPE=text/html:<!DOCTYPE HTML PUBLIC "-//W3C//DTD HTML 3.2//E
 N"><HTML><p>Learn what to expect as a new parent!&nbsp\;</p>\n</HTML>
CREATED;TZID=Europe/Berlin:20210518T083243
URL;VALUE=URI:https://kaiserslautern.armymwr.com/view-event
DTSTART;TZID=Europe/Berlin:20210113T123000
DTEND;TZID=Europe/Berlin:20210113T163000
SEQUENCE:10
END:VEVENT
BEGIN:VEVENT
UID:sabre-vobject-0fe423e6-e9b4-4794-bd17-aff65d83fc0f
DTSTAMP:20260420T000524Z
SUMMARY:Basic Training for New Parents - LIVE Stream 
DESCRIPTION:Learn what to expect as a new parent!&nbsp\;\n
X-ALT-DESC:FMTTYPE=text/html:<!DOCTYPE HTML PUBLIC "-//W3C//DTD HTML 3.2//E
 N"><HTML><p>Learn what to expect as a new parent!&nbsp\;</p>\n</HTML>
CREATED;TZID=Europe/Berlin:20210518T083243
URL;VALUE=URI:https://kaiserslautern.armymwr.com/view-event
DTSTART;TZID=Europe/Berlin:20210202T123000
DTEND;TZID=Europe/Berlin:20210202T163000
SEQUENCE:11
END:VEVENT
BEGIN:VEVENT
UID:sabre-vobject-3e61ad7c-6fa2-42e2-9020-7b8e7b3d7515
DTSTAMP:20260420T000524Z
SUMMARY:Basic Training for New Parents - LIVE Stream 
DESCRIPTION:Learn what to expect as a new parent!&nbsp\;\n
X-ALT-DESC:FMTTYPE=text/html:<!DOCTYPE HTML PUBLIC "-//W3C//DTD HTML 3.2//E
 N"><HTML><p>Learn what to expect as a new parent!&nbsp\;</p>\n</HTML>
CREATED;TZID=Europe/Berlin:20210518T083243
URL;VALUE=URI:https://kaiserslautern.armymwr.com/view-event
DTSTART;TZID=Europe/Berlin:20210210T123000
DTEND;TZID=Europe/Berlin:20210210T163000
SEQUENCE:12
END:VEVENT
BEGIN:VEVENT
UID:sabre-vobject-fbc7820b-0aaa-4d66-829d-5cc0d0671a50
DTSTAMP:20260420T000524Z
SUMMARY:Basic Training for New Parents - LIVE Stream 
DESCRIPTION:Learn what to expect as a new parent!&nbsp\;\n
X-ALT-DESC:FMTTYPE=text/html:<!DOCTYPE HTML PUBLIC "-//W3C//DTD HTML 3.2//E
 N"><HTML><p>Learn what to expect as a new parent!&nbsp\;</p>\n</HTML>
CREATED;TZID=Europe/Berlin:20210518T083243
URL;VALUE=URI:https://kaiserslautern.armymwr.com/view-event
DTSTART;TZID=Europe/Berlin:20210302T123000
DTEND;TZID=Europe/Berlin:20210302T163000
SEQUENCE:13
END:VEVENT
BEGIN:VEVENT
UID:sabre-vobject-77660e1b-7dbb-40f5-9cf3-d18df030e2e1
DTSTAMP:20260420T000524Z
SUMMARY:Basic Training for New Parents - LIVE Stream 
DESCRIPTION:Learn what to expect as a new parent!&nbsp\;\n
X-ALT-DESC:FMTTYPE=text/html:<!DOCTYPE HTML PUBLIC "-//W3C//DTD HTML 3.2//E
 N"><HTML><p>Learn what to expect as a new parent!&nbsp\;</p>\n</HTML>
CREATED;TZID=Europe/Berlin:20210518T083243
URL;VALUE=URI:https://kaiserslautern.armymwr.com/view-event
DTSTART;TZID=Europe/Berlin:20210310T123000
DTEND;TZID=Europe/Berlin:20210310T163000
SEQUENCE:14
END:VEVENT
BEGIN:VEVENT
UID:sabre-vobject-3bd510dd-8769-4f4c-95fd-a467c20141d7
DTSTAMP:20260420T000524Z
SUMMARY:Basic Training for New Parents - LIVE Stream 
DESCRIPTION:Learn what to expect as a new parent!&nbsp\;\n
X-ALT-DESC:FMTTYPE=text/html:<!DOCTYPE HTML PUBLIC "-//W3C//DTD HTML 3.2//E
 N"><HTML><p>Learn what to expect as a new parent!&nbsp\;</p>\n</HTML>
CREATED;TZID=Europe/Berlin:20210518T083243
URL;VALUE=URI:https://kaiserslautern.armymwr.com/view-event
DTSTART;TZID=Europe/Berlin:20210406T123000
DTEND;TZID=Europe/Berlin:20210406T163000
SEQUENCE:15
END:VEVENT
BEGIN:VEVENT
UID:sabre-vobject-c549f616-0697-4463-af2d-912c7a142dad
DTSTAMP:20260420T000524Z
SUMMARY:Basic Training for New Parents - LIVE Stream 
DESCRIPTION:Learn what to expect as a new parent!&nbsp\;\n
X-ALT-DESC:FMTTYPE=text/html:<!DOCTYPE HTML PUBLIC "-//W3C//DTD HTML 3.2//E
 N"><HTML><p>Learn what to expect as a new parent!&nbsp\;</p>\n</HTML>
CREATED;TZID=Europe/Berlin:20210518T083243
URL;VALUE=URI:https://kaiserslautern.armymwr.com/view-event
DTSTART;TZID=Europe/Berlin:20210414T123000
DTEND;TZID=Europe/Berlin:20210414T163000
SEQUENCE:16
END:VEVENT
BEGIN:VEVENT
UID:sabre-vobject-f6c2ab6b-4338-41ab-8899-d5a295165edd
DTSTAMP:20260420T000524Z
SUMMARY:Basic Training for New Parents - LIVE Stream 
DESCRIPTION:Learn what to expect as a new parent!&nbsp\;\n
X-ALT-DESC:FMTTYPE=text/html:<!DOCTYPE HTML PUBLIC "-//W3C//DTD HTML 3.2//E
 N"><HTML><p>Learn what to expect as a new parent!&nbsp\;</p>\n</HTML>
CREATED;TZID=Europe/Berlin:20210518T083243
URL;VALUE=URI:https://kaiserslautern.armymwr.com/view-event
DTSTART;TZID=Europe/Berlin:20210504T123000
DTEND;TZID=Europe/Berlin:20210504T163000
SEQUENCE:17
END:VEVENT
BEGIN:VEVENT
UID:sabre-vobject-717fd4ec-4e28-4780-9ce0-bbf13556fe8d
DTSTAMP:20260420T000524Z
SUMMARY:Basic Training for New Parents - LIVE Stream 
DESCRIPTION:Learn what to expect as a new parent!&nbsp\;\n
X-ALT-DESC:FMTTYPE=text/html:<!DOCTYPE HTML PUBLIC "-//W3C//DTD HTML 3.2//E
 N"><HTML><p>Learn what to expect as a new parent!&nbsp\;</p>\n</HTML>
CREATED;TZID=Europe/Berlin:20210518T083243
URL;VALUE=URI:https://kaiserslautern.armymwr.com/view-event
DTSTART;TZID=Europe/Berlin:20210512T123000
DTEND;TZID=Europe/Berlin:20210512T163000
SEQUENCE:18
END:VEVENT
BEGIN:VEVENT
UID:sabre-vobject-bbf174bd-a0b9-4bf8-9e38-8053ee112017
DTSTAMP:20260420T000524Z
SUMMARY:Basic Training for New Parents - LIVE Stream 
DESCRIPTION:Learn what to expect as a new parent!&nbsp\;\n
X-ALT-DESC:FMTTYPE=text/html:<!DOCTYPE HTML PUBLIC "-//W3C//DTD HTML 3.2//E
 N"><HTML><p>Learn what to expect as a new parent!&nbsp\;</p>\n</HTML>
CREATED;TZID=Europe/Berlin:20210518T083243
URL;VALUE=URI:https://kaiserslautern.armymwr.com/view-event
DTSTART;TZID=Europe/Berlin:20210601T123000
DTEND;TZID=Europe/Berlin:20210601T163000
SEQUENCE:19
END:VEVENT
END:VCALENDAR
