BEGIN:VCALENDAR
VERSION:2.0
PRODID:-//Sabre//Sabre VObject 4.5.8//EN
CALSCALE:GREGORIAN
BEGIN:VEVENT
UID:sabre-vobject-4c379794-6217-4298-9fa4-11a297a4f771
DTSTAMP:20260420T191822Z
SUMMARY:Emergency Placement Care (EPC) Informational Meeting - LIVE Stream
DESCRIPTION:Help a family in need!\n
X-ALT-DESC:FMTTYPE=text/html:<!DOCTYPE HTML PUBLIC "-//W3C//DTD HTML 3.2//E
 N"><HTML><p>Help a family in need!</p>\n</HTML>
CREATED;TZID=Europe/Berlin:20210518T084324
URL;VALUE=URI:https://kaiserslautern.armymwr.com/view-event
DTSTART;TZID=Europe/Berlin:20200819T130000
DTEND;TZID=Europe/Berlin:20200819T140000
SEQUENCE:0
END:VEVENT
BEGIN:VEVENT
UID:sabre-vobject-5e706863-9198-4e09-9837-b2e611c91702
DTSTAMP:20260420T191822Z
SUMMARY:Emergency Placement Care (EPC) Informational Meeting - LIVE Stream
DESCRIPTION:Help a family in need!\n
X-ALT-DESC:FMTTYPE=text/html:<!DOCTYPE HTML PUBLIC "-//W3C//DTD HTML 3.2//E
 N"><HTML><p>Help a family in need!</p>\n</HTML>
CREATED;TZID=Europe/Berlin:20210518T084324
URL;VALUE=URI:https://kaiserslautern.armymwr.com/view-event
DTSTART;TZID=Europe/Berlin:20200916T130000
DTEND;TZID=Europe/Berlin:20200916T140000
SEQUENCE:1
END:VEVENT
BEGIN:VEVENT
UID:sabre-vobject-45880434-550d-4187-88f3-76d783422547
DTSTAMP:20260420T191822Z
SUMMARY:Emergency Placement Care (EPC) Informational Meeting - LIVE Stream
DESCRIPTION:Help a family in need!\n
X-ALT-DESC:FMTTYPE=text/html:<!DOCTYPE HTML PUBLIC "-//W3C//DTD HTML 3.2//E
 N"><HTML><p>Help a family in need!</p>\n</HTML>
CREATED;TZID=Europe/Berlin:20210518T084324
URL;VALUE=URI:https://kaiserslautern.armymwr.com/view-event
DTSTART;TZID=Europe/Berlin:20200923T130000
DTEND;TZID=Europe/Berlin:20200923T140000
SEQUENCE:2
END:VEVENT
BEGIN:VEVENT
UID:sabre-vobject-a2d7b00c-50c1-4313-8bfb-f4d07550e969
DTSTAMP:20260420T191822Z
SUMMARY:Emergency Placement Care (EPC) Informational Meeting - LIVE Stream
DESCRIPTION:Help a family in need!\n
X-ALT-DESC:FMTTYPE=text/html:<!DOCTYPE HTML PUBLIC "-//W3C//DTD HTML 3.2//E
 N"><HTML><p>Help a family in need!</p>\n</HTML>
CREATED;TZID=Europe/Berlin:20210518T084324
URL;VALUE=URI:https://kaiserslautern.armymwr.com/view-event
DTSTART;TZID=Europe/Berlin:20201021T130000
DTEND;TZID=Europe/Berlin:20201021T140000
SEQUENCE:3
END:VEVENT
BEGIN:VEVENT
UID:sabre-vobject-cf659e61-39fe-44d5-80f2-ee79582293f9
DTSTAMP:20260420T191822Z
SUMMARY:Emergency Placement Care (EPC) Informational Meeting - LIVE Stream
DESCRIPTION:Help a family in need!\n
X-ALT-DESC:FMTTYPE=text/html:<!DOCTYPE HTML PUBLIC "-//W3C//DTD HTML 3.2//E
 N"><HTML><p>Help a family in need!</p>\n</HTML>
CREATED;TZID=Europe/Berlin:20210518T084324
URL;VALUE=URI:https://kaiserslautern.armymwr.com/view-event
DTSTART;TZID=Europe/Berlin:20201118T130000
DTEND;TZID=Europe/Berlin:20201118T140000
SEQUENCE:4
END:VEVENT
BEGIN:VEVENT
UID:sabre-vobject-0d9dca98-1088-49d0-adba-7a9bddcd2234
DTSTAMP:20260420T191822Z
SUMMARY:Emergency Placement Care (EPC) Informational Meeting - LIVE Stream
DESCRIPTION:Help a family in need!\n
X-ALT-DESC:FMTTYPE=text/html:<!DOCTYPE HTML PUBLIC "-//W3C//DTD HTML 3.2//E
 N"><HTML><p>Help a family in need!</p>\n</HTML>
CREATED;TZID=Europe/Berlin:20210518T084324
URL;VALUE=URI:https://kaiserslautern.armymwr.com/view-event
DTSTART;TZID=Europe/Berlin:20201209T130000
DTEND;TZID=Europe/Berlin:20201209T140000
SEQUENCE:5
END:VEVENT
BEGIN:VEVENT
UID:sabre-vobject-c48e18df-483f-4868-9a5c-e5abb4c77ea7
DTSTAMP:20260420T191822Z
SUMMARY:Emergency Placement Care (EPC) Informational Meeting - LIVE Stream
DESCRIPTION:Help a family in need!\n
X-ALT-DESC:FMTTYPE=text/html:<!DOCTYPE HTML PUBLIC "-//W3C//DTD HTML 3.2//E
 N"><HTML><p>Help a family in need!</p>\n</HTML>
CREATED;TZID=Europe/Berlin:20210518T084324
URL;VALUE=URI:https://kaiserslautern.armymwr.com/view-event
DTSTART;TZID=Europe/Berlin:20201223T130000
DTEND;TZID=Europe/Berlin:20201223T140000
SEQUENCE:6
END:VEVENT
BEGIN:VEVENT
UID:sabre-vobject-a7c1147f-ee81-4e9f-925c-406f3a9ad20e
DTSTAMP:20260420T191822Z
SUMMARY:Emergency Placement Care (EPC) Informational Meeting - LIVE Stream
DESCRIPTION:Help a family in need!\n
X-ALT-DESC:FMTTYPE=text/html:<!DOCTYPE HTML PUBLIC "-//W3C//DTD HTML 3.2//E
 N"><HTML><p>Help a family in need!</p>\n</HTML>
CREATED;TZID=Europe/Berlin:20210518T084324
URL;VALUE=URI:https://kaiserslautern.armymwr.com/view-event
DTSTART;TZID=Europe/Berlin:20210120T130000
DTEND;TZID=Europe/Berlin:20210120T140000
SEQUENCE:7
END:VEVENT
BEGIN:VEVENT
UID:sabre-vobject-b3312da4-4fd2-4e86-ac50-1969b423c53d
DTSTAMP:20260420T191822Z
SUMMARY:Emergency Placement Care (EPC) Informational Meeting - LIVE Stream
DESCRIPTION:Help a family in need!\n
X-ALT-DESC:FMTTYPE=text/html:<!DOCTYPE HTML PUBLIC "-//W3C//DTD HTML 3.2//E
 N"><HTML><p>Help a family in need!</p>\n</HTML>
CREATED;TZID=Europe/Berlin:20210518T084324
URL;VALUE=URI:https://kaiserslautern.armymwr.com/view-event
DTSTART;TZID=Europe/Berlin:20210217T130000
DTEND;TZID=Europe/Berlin:20210217T140000
SEQUENCE:8
END:VEVENT
BEGIN:VEVENT
UID:sabre-vobject-8b1585ba-bcfe-48b1-9d99-97356ecec321
DTSTAMP:20260420T191822Z
SUMMARY:Emergency Placement Care (EPC) Informational Meeting - LIVE Stream
DESCRIPTION:Help a family in need!\n
X-ALT-DESC:FMTTYPE=text/html:<!DOCTYPE HTML PUBLIC "-//W3C//DTD HTML 3.2//E
 N"><HTML><p>Help a family in need!</p>\n</HTML>
CREATED;TZID=Europe/Berlin:20210518T084324
URL;VALUE=URI:https://kaiserslautern.armymwr.com/view-event
DTSTART;TZID=Europe/Berlin:20210224T130000
DTEND;TZID=Europe/Berlin:20210224T140000
SEQUENCE:9
END:VEVENT
BEGIN:VEVENT
UID:sabre-vobject-3639163a-823d-4a3f-9670-febb5a8ca0dd
DTSTAMP:20260420T191822Z
SUMMARY:Emergency Placement Care (EPC) Informational Meeting - LIVE Stream
DESCRIPTION:Help a family in need!\n
X-ALT-DESC:FMTTYPE=text/html:<!DOCTYPE HTML PUBLIC "-//W3C//DTD HTML 3.2//E
 N"><HTML><p>Help a family in need!</p>\n</HTML>
CREATED;TZID=Europe/Berlin:20210518T084324
URL;VALUE=URI:https://kaiserslautern.armymwr.com/view-event
DTSTART;TZID=Europe/Berlin:20210317T130000
DTEND;TZID=Europe/Berlin:20210317T140000
SEQUENCE:10
END:VEVENT
BEGIN:VEVENT
UID:sabre-vobject-43d4243d-dee8-470b-90dd-2adeac356de4
DTSTAMP:20260420T191822Z
SUMMARY:Emergency Placement Care (EPC) Informational Meeting - LIVE Stream
DESCRIPTION:Help a family in need!\n
X-ALT-DESC:FMTTYPE=text/html:<!DOCTYPE HTML PUBLIC "-//W3C//DTD HTML 3.2//E
 N"><HTML><p>Help a family in need!</p>\n</HTML>
CREATED;TZID=Europe/Berlin:20210518T084324
URL;VALUE=URI:https://kaiserslautern.armymwr.com/view-event
DTSTART;TZID=Europe/Berlin:20210324T130000
DTEND;TZID=Europe/Berlin:20210324T140000
SEQUENCE:11
END:VEVENT
BEGIN:VEVENT
UID:sabre-vobject-f9fec29a-8b57-4f99-9e35-d73b6977e1b2
DTSTAMP:20260420T191822Z
SUMMARY:Emergency Placement Care (EPC) Informational Meeting - LIVE Stream
DESCRIPTION:Help a family in need!\n
X-ALT-DESC:FMTTYPE=text/html:<!DOCTYPE HTML PUBLIC "-//W3C//DTD HTML 3.2//E
 N"><HTML><p>Help a family in need!</p>\n</HTML>
CREATED;TZID=Europe/Berlin:20210518T084324
URL;VALUE=URI:https://kaiserslautern.armymwr.com/view-event
DTSTART;TZID=Europe/Berlin:20210414T130000
DTEND;TZID=Europe/Berlin:20210414T140000
SEQUENCE:12
END:VEVENT
BEGIN:VEVENT
UID:sabre-vobject-a9084cb3-aa8c-4d16-ad91-395f04a9931c
DTSTAMP:20260420T191822Z
SUMMARY:Emergency Placement Care (EPC) Informational Meeting - LIVE Stream
DESCRIPTION:Help a family in need!\n
X-ALT-DESC:FMTTYPE=text/html:<!DOCTYPE HTML PUBLIC "-//W3C//DTD HTML 3.2//E
 N"><HTML><p>Help a family in need!</p>\n</HTML>
CREATED;TZID=Europe/Berlin:20210518T084324
URL;VALUE=URI:https://kaiserslautern.armymwr.com/view-event
DTSTART;TZID=Europe/Berlin:20210421T130000
DTEND;TZID=Europe/Berlin:20210421T140000
SEQUENCE:13
END:VEVENT
BEGIN:VEVENT
UID:sabre-vobject-2c3febcc-cb68-4fce-8a1f-0863b283418e
DTSTAMP:20260420T191822Z
SUMMARY:Emergency Placement Care (EPC) Informational Meeting - LIVE Stream
DESCRIPTION:Help a family in need!\n
X-ALT-DESC:FMTTYPE=text/html:<!DOCTYPE HTML PUBLIC "-//W3C//DTD HTML 3.2//E
 N"><HTML><p>Help a family in need!</p>\n</HTML>
CREATED;TZID=Europe/Berlin:20210518T084324
URL;VALUE=URI:https://kaiserslautern.armymwr.com/view-event
DTSTART;TZID=Europe/Berlin:20210512T130000
DTEND;TZID=Europe/Berlin:20210512T140000
SEQUENCE:14
END:VEVENT
BEGIN:VEVENT
UID:sabre-vobject-eeb18156-faee-42c4-8016-4556bda323c5
DTSTAMP:20260420T191822Z
SUMMARY:Emergency Placement Care (EPC) Informational Meeting - LIVE Stream
DESCRIPTION:Help a family in need!\n
X-ALT-DESC:FMTTYPE=text/html:<!DOCTYPE HTML PUBLIC "-//W3C//DTD HTML 3.2//E
 N"><HTML><p>Help a family in need!</p>\n</HTML>
CREATED;TZID=Europe/Berlin:20210518T084324
URL;VALUE=URI:https://kaiserslautern.armymwr.com/view-event
DTSTART;TZID=Europe/Berlin:20210609T130000
DTEND;TZID=Europe/Berlin:20210609T140000
SEQUENCE:15
END:VEVENT
BEGIN:VEVENT
UID:sabre-vobject-8b9b0681-5580-4516-b6eb-f170a1e695a6
DTSTAMP:20260420T191822Z
SUMMARY:Emergency Placement Care (EPC) Informational Meeting - LIVE Stream
DESCRIPTION:Help a family in need!\n
X-ALT-DESC:FMTTYPE=text/html:<!DOCTYPE HTML PUBLIC "-//W3C//DTD HTML 3.2//E
 N"><HTML><p>Help a family in need!</p>\n</HTML>
CREATED;TZID=Europe/Berlin:20210518T084324
URL;VALUE=URI:https://kaiserslautern.armymwr.com/view-event
DTSTART;TZID=Europe/Berlin:20210616T130000
DTEND;TZID=Europe/Berlin:20210616T140000
SEQUENCE:16
END:VEVENT
END:VCALENDAR
