BEGIN:VCALENDAR
VERSION:2.0
PRODID:-//Sabre//Sabre VObject 4.5.8//EN
CALSCALE:GREGORIAN
BEGIN:VEVENT
UID:sabre-vobject-8071e7d9-ddee-4f46-8eed-4e6dcb9a4565
DTSTAMP:20260424T112028Z
SUMMARY:Finding Light after Darkness
DESCRIPTION:Looking for comfort and support? Join the ACS Family Advocacy P
 rogram as they help others cope with domestic violence relationships both 
 past and present.\n
X-ALT-DESC:FMTTYPE=text/html:<!DOCTYPE HTML PUBLIC "-//W3C//DTD HTML 3.2//E
 N"><HTML><p>Looking for comfort and support? Join the ACS Family Advocacy 
 Program as they help others cope with domestic violence relationships both
  past and present.</p>\n</HTML>
CREATED;TZID=Europe/Berlin:20210722T155628
URL;VALUE=URI:https://kaiserslautern.armymwr.com/view-event
DTSTART;TZID=Europe/Berlin:20200827T113000
DTEND;TZID=Europe/Berlin:20200827T123000
SEQUENCE:0
END:VEVENT
BEGIN:VEVENT
UID:sabre-vobject-0c2b7187-649c-43da-a592-7d823b0ba7b2
DTSTAMP:20260424T112028Z
SUMMARY:Finding Light after Darkness
DESCRIPTION:Looking for comfort and support? Join the ACS Family Advocacy P
 rogram as they help others cope with domestic violence relationships both 
 past and present.\n
X-ALT-DESC:FMTTYPE=text/html:<!DOCTYPE HTML PUBLIC "-//W3C//DTD HTML 3.2//E
 N"><HTML><p>Looking for comfort and support? Join the ACS Family Advocacy 
 Program as they help others cope with domestic violence relationships both
  past and present.</p>\n</HTML>
CREATED;TZID=Europe/Berlin:20210722T155628
URL;VALUE=URI:https://kaiserslautern.armymwr.com/view-event
DTSTART;TZID=Europe/Berlin:20200924T113000
DTEND;TZID=Europe/Berlin:20200924T123000
SEQUENCE:1
END:VEVENT
BEGIN:VEVENT
UID:sabre-vobject-faf63b71-7003-41a1-a54e-80696209c1d2
DTSTAMP:20260424T112028Z
SUMMARY:Finding Light after Darkness
DESCRIPTION:Looking for comfort and support? Join the ACS Family Advocacy P
 rogram as they help others cope with domestic violence relationships both 
 past and present.\n
X-ALT-DESC:FMTTYPE=text/html:<!DOCTYPE HTML PUBLIC "-//W3C//DTD HTML 3.2//E
 N"><HTML><p>Looking for comfort and support? Join the ACS Family Advocacy 
 Program as they help others cope with domestic violence relationships both
  past and present.</p>\n</HTML>
CREATED;TZID=Europe/Berlin:20210722T155628
URL;VALUE=URI:https://kaiserslautern.armymwr.com/view-event
DTSTART;TZID=Europe/Berlin:20201022T113000
DTEND;TZID=Europe/Berlin:20201022T123000
SEQUENCE:2
END:VEVENT
BEGIN:VEVENT
UID:sabre-vobject-bbafc933-e7e6-4a0f-af78-d933b2457061
DTSTAMP:20260424T112028Z
SUMMARY:Finding Light after Darkness
DESCRIPTION:Looking for comfort and support? Join the ACS Family Advocacy P
 rogram as they help others cope with domestic violence relationships both 
 past and present.\n
X-ALT-DESC:FMTTYPE=text/html:<!DOCTYPE HTML PUBLIC "-//W3C//DTD HTML 3.2//E
 N"><HTML><p>Looking for comfort and support? Join the ACS Family Advocacy 
 Program as they help others cope with domestic violence relationships both
  past and present.</p>\n</HTML>
CREATED;TZID=Europe/Berlin:20210722T155628
URL;VALUE=URI:https://kaiserslautern.armymwr.com/view-event
DTSTART;TZID=Europe/Berlin:20210617T113000
DTEND;TZID=Europe/Berlin:20210617T123000
SEQUENCE:3
END:VEVENT
BEGIN:VEVENT
UID:sabre-vobject-81b5af80-e577-4213-b71a-c2f8159fc8cd
DTSTAMP:20260424T112028Z
SUMMARY:Finding Light after Darkness
DESCRIPTION:Looking for comfort and support? Join the ACS Family Advocacy P
 rogram as they help others cope with domestic violence relationships both 
 past and present.\n
X-ALT-DESC:FMTTYPE=text/html:<!DOCTYPE HTML PUBLIC "-//W3C//DTD HTML 3.2//E
 N"><HTML><p>Looking for comfort and support? Join the ACS Family Advocacy 
 Program as they help others cope with domestic violence relationships both
  past and present.</p>\n</HTML>
CREATED;TZID=Europe/Berlin:20210722T155628
URL;VALUE=URI:https://kaiserslautern.armymwr.com/view-event
DTSTART;TZID=Europe/Berlin:20210722T113000
DTEND;TZID=Europe/Berlin:20210722T123000
SEQUENCE:4
END:VEVENT
BEGIN:VEVENT
UID:sabre-vobject-0b94a256-283c-4bd5-b7e9-3f7661404065
DTSTAMP:20260424T112028Z
SUMMARY:Finding Light after Darkness
DESCRIPTION:Looking for comfort and support? Join the ACS Family Advocacy P
 rogram as they help others cope with domestic violence relationships both 
 past and present.\n
X-ALT-DESC:FMTTYPE=text/html:<!DOCTYPE HTML PUBLIC "-//W3C//DTD HTML 3.2//E
 N"><HTML><p>Looking for comfort and support? Join the ACS Family Advocacy 
 Program as they help others cope with domestic violence relationships both
  past and present.</p>\n</HTML>
CREATED;TZID=Europe/Berlin:20210722T155628
URL;VALUE=URI:https://kaiserslautern.armymwr.com/view-event
DTSTART;TZID=Europe/Berlin:20210826T113000
DTEND;TZID=Europe/Berlin:20210826T123000
SEQUENCE:5
END:VEVENT
END:VCALENDAR
