BEGIN:VCALENDAR
VERSION:2.0
PRODID:-//Sabre//Sabre VObject 4.5.8//EN
CALSCALE:GREGORIAN
BEGIN:VEVENT
UID:sabre-vobject-ecad74c8-4937-443f-8e96-06d72f30f33e
DTSTAMP:20260426T024042Z
SUMMARY:Baltic Sea Christmas Markets
DESCRIPTION:Visit the Christmas Markets of three Baltic Sea Capitals\; Stoc
 kholm\, Tallinn and Helsinki!\n
X-ALT-DESC:FMTTYPE=text/html:<!DOCTYPE HTML PUBLIC "-//W3C//DTD HTML 3.2//E
 N"><HTML><p>Visit the Christmas Markets of three Baltic Sea Capitals\; <st
 rong>Stockholm\, Tallinn and Helsinki</strong>!</p>\n</HTML>
CREATED;TZID=Europe/Berlin:20221104T145609
URL;VALUE=URI:https://kaiserslautern.armymwr.com/view-event
DTSTART;TZID=Europe/Berlin:20221217T070000
DTEND;TZID=Europe/Berlin:20221224T180000
SEQUENCE:0
END:VEVENT
END:VCALENDAR
