BEGIN:VCALENDAR
VERSION:2.0
PRODID:-//Sabre//Sabre VObject 4.5.8//EN
CALSCALE:GREGORIAN
BEGIN:VEVENT
UID:sabre-vobject-389b670f-efaf-4ac0-8771-f41cee4e940b
DTSTAMP:20260421T120120Z
SUMMARY:Newborn Network
DESCRIPTION:Join the New Parent Support Program and receive great info abou
 t development for your baby.\n
X-ALT-DESC:FMTTYPE=text/html:<!DOCTYPE HTML PUBLIC "-//W3C//DTD HTML 3.2//E
 N"><HTML><p>Join the New Parent Support Program and receive great info abo
 ut development for your baby.</p>\n</HTML>
CREATED;TZID=Europe/Berlin:20201021T094327
URL;VALUE=URI:https://kaiserslautern.armymwr.com/view-event
DTSTART;TZID=Europe/Berlin:20200904T100000
DTEND;TZID=Europe/Berlin:20200904T113000
SEQUENCE:0
END:VEVENT
BEGIN:VEVENT
UID:sabre-vobject-0cb05838-469a-41a6-a490-94b20d824455
DTSTAMP:20260421T120120Z
SUMMARY:Newborn Network
DESCRIPTION:Join the New Parent Support Program and receive great info abou
 t development for your baby.\n
X-ALT-DESC:FMTTYPE=text/html:<!DOCTYPE HTML PUBLIC "-//W3C//DTD HTML 3.2//E
 N"><HTML><p>Join the New Parent Support Program and receive great info abo
 ut development for your baby.</p>\n</HTML>
CREATED;TZID=Europe/Berlin:20201021T094327
URL;VALUE=URI:https://kaiserslautern.armymwr.com/view-event
DTSTART;TZID=Europe/Berlin:20200918T100000
DTEND;TZID=Europe/Berlin:20200918T113000
SEQUENCE:1
END:VEVENT
BEGIN:VEVENT
UID:sabre-vobject-6a31983b-b78a-41c5-b5d5-3f1a70726a4a
DTSTAMP:20260421T120120Z
SUMMARY:Newborn Network
DESCRIPTION:Join the New Parent Support Program and receive great info abou
 t development for your baby.\n
X-ALT-DESC:FMTTYPE=text/html:<!DOCTYPE HTML PUBLIC "-//W3C//DTD HTML 3.2//E
 N"><HTML><p>Join the New Parent Support Program and receive great info abo
 ut development for your baby.</p>\n</HTML>
CREATED;TZID=Europe/Berlin:20201021T094327
URL;VALUE=URI:https://kaiserslautern.armymwr.com/view-event
DTSTART;TZID=Europe/Berlin:20201002T100000
DTEND;TZID=Europe/Berlin:20201002T113000
SEQUENCE:2
END:VEVENT
BEGIN:VEVENT
UID:sabre-vobject-731e9bc6-2f49-4786-88f1-8b0f73e27ab0
DTSTAMP:20260421T120120Z
SUMMARY:Newborn Network
DESCRIPTION:Join the New Parent Support Program and receive great info abou
 t development for your baby.\n
X-ALT-DESC:FMTTYPE=text/html:<!DOCTYPE HTML PUBLIC "-//W3C//DTD HTML 3.2//E
 N"><HTML><p>Join the New Parent Support Program and receive great info abo
 ut development for your baby.</p>\n</HTML>
CREATED;TZID=Europe/Berlin:20201021T094327
URL;VALUE=URI:https://kaiserslautern.armymwr.com/view-event
DTSTART;TZID=Europe/Berlin:20201106T100000
DTEND;TZID=Europe/Berlin:20201106T113000
SEQUENCE:3
END:VEVENT
BEGIN:VEVENT
UID:sabre-vobject-3bc5664d-6749-4ad8-ba84-c9f860c9380c
DTSTAMP:20260421T120120Z
SUMMARY:Newborn Network
DESCRIPTION:Join the New Parent Support Program and receive great info abou
 t development for your baby.\n
X-ALT-DESC:FMTTYPE=text/html:<!DOCTYPE HTML PUBLIC "-//W3C//DTD HTML 3.2//E
 N"><HTML><p>Join the New Parent Support Program and receive great info abo
 ut development for your baby.</p>\n</HTML>
CREATED;TZID=Europe/Berlin:20201021T094327
URL;VALUE=URI:https://kaiserslautern.armymwr.com/view-event
DTSTART;TZID=Europe/Berlin:20201120T100000
DTEND;TZID=Europe/Berlin:20201120T113000
SEQUENCE:4
END:VEVENT
END:VCALENDAR
