BEGIN:VCALENDAR
VERSION:2.0
PRODID:-//Sabre//Sabre VObject 4.5.8//EN
CALSCALE:GREGORIAN
BEGIN:VEVENT
UID:sabre-vobject-711c306f-0d7e-4476-9ad1-f97ce41f6428
DTSTAMP:20260425T135147Z
SUMMARY:German Language: Transportation/ vehicles  - LIVE Stream 
DESCRIPTION:Take advantage of this free opportunity to learn German with AC
 S!\n\n&nbsp\;\n
X-ALT-DESC:FMTTYPE=text/html:<!DOCTYPE HTML PUBLIC "-//W3C//DTD HTML 3.2//E
 N"><HTML><p>Take advantage of this free opportunity to learn German with A
 CS!</p>\n\n<p>&nbsp\;</p>\n</HTML>
CREATED;TZID=Europe/Berlin:20200818T110136
URL;VALUE=URI:https://kaiserslautern.armymwr.com/view-event
DTSTART;TZID=Europe/Berlin:20200910T100000
DTEND;TZID=Europe/Berlin:20200910T113000
SEQUENCE:0
END:VEVENT
BEGIN:VEVENT
UID:sabre-vobject-e80ce895-5483-475a-b178-9616f5a6dd7a
DTSTAMP:20260425T135147Z
SUMMARY:German Language: Transportation/ vehicles  - LIVE Stream 
DESCRIPTION:Take advantage of this free opportunity to learn German with AC
 S!\n\n&nbsp\;\n
X-ALT-DESC:FMTTYPE=text/html:<!DOCTYPE HTML PUBLIC "-//W3C//DTD HTML 3.2//E
 N"><HTML><p>Take advantage of this free opportunity to learn German with A
 CS!</p>\n\n<p>&nbsp\;</p>\n</HTML>
CREATED;TZID=Europe/Berlin:20200818T110136
URL;VALUE=URI:https://kaiserslautern.armymwr.com/view-event
DTSTART;TZID=Europe/Berlin:20200910T123000
DTEND;TZID=Europe/Berlin:20200910T140000
SEQUENCE:1
END:VEVENT
END:VCALENDAR
