BEGIN:VCALENDAR
VERSION:2.0
PRODID:-//Sabre//Sabre VObject 4.5.8//EN
CALSCALE:GREGORIAN
BEGIN:VEVENT
UID:sabre-vobject-57832fb5-82f8-49dc-9dd2-cb4085d43c53
DTSTAMP:20260425T010323Z
SUMMARY:German Language: Restaurant/ shopping  - LIVE Stream 
DESCRIPTION:Take advantage of this free opportunity to learn German with AC
 S!\n\n&nbsp\;\n
X-ALT-DESC:FMTTYPE=text/html:<!DOCTYPE HTML PUBLIC "-//W3C//DTD HTML 3.2//E
 N"><HTML><p>Take advantage of this free opportunity to learn German with A
 CS!</p>\n\n<p>&nbsp\;</p>\n</HTML>
CREATED;TZID=Europe/Berlin:20200818T110629
URL;VALUE=URI:https://kaiserslautern.armymwr.com/view-event
DTSTART;TZID=Europe/Berlin:20200917T100000
DTEND;TZID=Europe/Berlin:20200917T113000
SEQUENCE:0
END:VEVENT
BEGIN:VEVENT
UID:sabre-vobject-87124402-66e6-4662-a6a3-89c9c8f2c012
DTSTAMP:20260425T010323Z
SUMMARY:German Language: Restaurant/ shopping  - LIVE Stream 
DESCRIPTION:Take advantage of this free opportunity to learn German with AC
 S!\n\n&nbsp\;\n
X-ALT-DESC:FMTTYPE=text/html:<!DOCTYPE HTML PUBLIC "-//W3C//DTD HTML 3.2//E
 N"><HTML><p>Take advantage of this free opportunity to learn German with A
 CS!</p>\n\n<p>&nbsp\;</p>\n</HTML>
CREATED;TZID=Europe/Berlin:20200818T110629
URL;VALUE=URI:https://kaiserslautern.armymwr.com/view-event
DTSTART;TZID=Europe/Berlin:20200917T123000
DTEND;TZID=Europe/Berlin:20200917T140000
SEQUENCE:1
END:VEVENT
END:VCALENDAR
