BEGIN:VCALENDAR
VERSION:2.0
PRODID:-//Sabre//Sabre VObject 4.5.8//EN
CALSCALE:GREGORIAN
BEGIN:VEVENT
UID:sabre-vobject-84d9c35e-445d-48f1-8225-30a4ef0632d0
DTSTAMP:20260425T170537Z
SUMMARY:Rocky Horror Shadow Show Auditions
DESCRIPTION:
X-ALT-DESC:FMTTYPE=text/html:<!DOCTYPE HTML PUBLIC "-//W3C//DTD HTML 3.2//E
 N"><HTML></HTML>
CREATED;TZID=Europe/Berlin:20200824T123645
URL;VALUE=URI:https://kaiserslautern.armymwr.com/view-event
DTSTART;TZID=Europe/Berlin:20200914T180000
DTEND;TZID=Europe/Berlin:20200914T200000
SEQUENCE:0
END:VEVENT
BEGIN:VEVENT
UID:sabre-vobject-d1267bc4-afaa-4a46-8f45-0d15b54a1a85
DTSTAMP:20260425T170537Z
SUMMARY:Rocky Horror Shadow Show Auditions
DESCRIPTION:
X-ALT-DESC:FMTTYPE=text/html:<!DOCTYPE HTML PUBLIC "-//W3C//DTD HTML 3.2//E
 N"><HTML></HTML>
CREATED;TZID=Europe/Berlin:20200824T123645
URL;VALUE=URI:https://kaiserslautern.armymwr.com/view-event
DTSTART;TZID=Europe/Berlin:20200915T180000
DTEND;TZID=Europe/Berlin:20200915T200000
SEQUENCE:1
END:VEVENT
END:VCALENDAR
