BEGIN:VCALENDAR
VERSION:2.0
PRODID:-//Sabre//Sabre VObject 4.5.8//EN
CALSCALE:GREGORIAN
BEGIN:VEVENT
UID:sabre-vobject-79531049-91bb-4d1c-a150-276128a08ee6
DTSTAMP:20260426T024048Z
SUMMARY:KMC Onstage Youth Theater Fall Classes Registration
DESCRIPTION:Registration open until Oct. 4\n
X-ALT-DESC:FMTTYPE=text/html:<!DOCTYPE HTML PUBLIC "-//W3C//DTD HTML 3.2//E
 N"><HTML><p>Registration open until Oct. 4</p>\n</HTML>
CREATED;TZID=Europe/Berlin:20200914T103923
URL;VALUE=URI:https://kaiserslautern.armymwr.com/view-event
DTSTART;TZID=Europe/Berlin:20200914T000000
DTEND;TZID=Europe/Berlin:20201004T235959
SEQUENCE:0
END:VEVENT
END:VCALENDAR
