BEGIN:VCALENDAR
VERSION:2.0
PRODID:-//Sabre//Sabre VObject 4.5.8//EN
CALSCALE:GREGORIAN
BEGIN:VEVENT
UID:sabre-vobject-fc05bd00-74fe-4405-93c1-66e0c0f61d8f
DTSTAMP:20260425T005856Z
SUMMARY:Online Job Fair 
DESCRIPTION:Join the ACS Employment Readiness Program for an&nbsp\;online j
 ob fair!&nbsp\;\n
X-ALT-DESC:FMTTYPE=text/html:<!DOCTYPE HTML PUBLIC "-//W3C//DTD HTML 3.2//E
 N"><HTML><p>Join the ACS Employment Readiness Program for an&nbsp\;online 
 job fair!&nbsp\;</p>\n</HTML>
CREATED;TZID=Europe/Berlin:20200923T093911
URL;VALUE=URI:https://kaiserslautern.armymwr.com/view-event
DTSTART;TZID=Europe/Berlin:20201006T120000
DTEND;TZID=Europe/Berlin:20201006T150000
SEQUENCE:0
END:VEVENT
END:VCALENDAR
